BEGIN:VCALENDAR
VERSION:2.0
PRODID:-//L&#039;Oustal - ECPv6.15.20//NONSGML v1.0//EN
CALSCALE:GREGORIAN
METHOD:PUBLISH
X-WR-CALNAME:L&#039;Oustal
X-ORIGINAL-URL:https://centresocial-oustal.fr
X-WR-CALDESC:évènements pour L&#039;Oustal
REFRESH-INTERVAL;VALUE=DURATION:PT1H
X-Robots-Tag:noindex
X-PUBLISHED-TTL:PT1H
BEGIN:VTIMEZONE
TZID:Europe/Paris
BEGIN:DAYLIGHT
TZOFFSETFROM:+0100
TZOFFSETTO:+0200
TZNAME:CEST
DTSTART:20250330T010000
END:DAYLIGHT
BEGIN:STANDARD
TZOFFSETFROM:+0200
TZOFFSETTO:+0100
TZNAME:CET
DTSTART:20251026T010000
END:STANDARD
BEGIN:DAYLIGHT
TZOFFSETFROM:+0100
TZOFFSETTO:+0200
TZNAME:CEST
DTSTART:20260329T010000
END:DAYLIGHT
BEGIN:STANDARD
TZOFFSETFROM:+0200
TZOFFSETTO:+0100
TZNAME:CET
DTSTART:20261025T010000
END:STANDARD
BEGIN:DAYLIGHT
TZOFFSETFROM:+0100
TZOFFSETTO:+0200
TZNAME:CEST
DTSTART:20270328T010000
END:DAYLIGHT
BEGIN:STANDARD
TZOFFSETFROM:+0200
TZOFFSETTO:+0100
TZNAME:CET
DTSTART:20271031T010000
END:STANDARD
END:VTIMEZONE
BEGIN:VEVENT
DTSTART;TZID=Europe/Paris:20260127T200000
DTEND;TZID=Europe/Paris:20260127T223000
DTSTAMP:20260420T054519
CREATED:20260112T111138Z
LAST-MODIFIED:20260112T111436Z
UID:10001173-1769544000-1769553000@centresocial-oustal.fr
SUMMARY:Rendez-vous culturels de l'Oustal
DESCRIPTION:Sortie culturelle – L’homme qui plantait des arbres (théâtre)\nL’Oustal vous propose une nouvelle sortie culturelle autour du spectacle l’homme qui plantait des arbres\, qui se tiendra le mardi 27 janvier 2026 à 20h. \n🚗 Covoiturage\nUn départ en covoiturage est organisé à 19h devant l’Oustal. \n💰 Tarifs\n\n9 € pour le spectacle\n3 € pour le covoiturage (à régler séparément)\n\nPour toute question ou information complémentaire\, n’hésitez pas à nous contacter. \nNous avons hâte de partager avec vous cette belle expérience artistique et musicale ! \nNombre de place limité \nSur inscription à l’accueil de l’Oustal au 04 66 85 19 55 ou à l’accueil@centresocial-oustal.fr  \n 
URL:https://centresocial-oustal.fr/activite/rendez-vous-culturels-de-loustal-18/
CATEGORIES:Famille,L'Oustal,Séniors et vie locale
ATTACH;FMTTYPE=image/jpeg:https://centresocial-oustal.fr/wp-content/uploads/2026/01/L_HOMME_QUI_PLANTAIT_DES_ARBRES_Fanchon_Bilbille_2024-2-4-scaled-1.jpg
END:VEVENT
BEGIN:VEVENT
DTSTART;TZID=Europe/Paris:20260128T080000
DTEND;TZID=Europe/Paris:20260128T180000
DTSTAMP:20260420T054519
CREATED:20260105T162119Z
LAST-MODIFIED:20260105T162119Z
UID:10001158-1769587200-1769623200@centresocial-oustal.fr
SUMMARY:Accueil de loisirs 3/11 ans
DESCRIPTION:📍 Centre de Loisirs – 3-11 ansAu P’tit Oustal\, les enfants de 3 à 11 ans découvrent chaque semaine des activités créatives\, sportives et culturelles pendant les mercredis et vacances scolaires.\nTarifs adaptés\, bons CAF acceptés. \nprogramme alsh 2026 \n\nAccueil de loisirs 3-11 ans \n\n🕑 Horaires d’inscription\nLes inscriptions se font à l’accueil de l’Oustal : \n\n\nDu lundi au vendredi \n\n\nDe 8h30 à 12h30 et de 13h30 à 17h30 \n\n\n👉 Les inscriptions : 📞 04 66 85 19 55 – ✉️ accueil@centresocial-oustal.fr \n\nAccueil & inscriptions \n\nMerci de votre confiance et à très bientôt au centre ! \nPlaces limitées \n 
URL:https://centresocial-oustal.fr/activite/accueil-de-loisirs-3-11-ans-74/
CATEGORIES:Enfance et Jeunesse,L'Oustal
ATTACH;FMTTYPE=image/jpeg:https://centresocial-oustal.fr/wp-content/uploads/2025/08/Accueil-de-loisirs-311ans1.jpg
ORGANIZER;CN="Le p'tit oustal":MAILTO:accueil@centresocial-oustal.fr
END:VEVENT
BEGIN:VEVENT
DTSTART;TZID=Europe/Paris:20260128T200000
DTEND;TZID=Europe/Paris:20260128T220000
DTSTAMP:20260420T054519
CREATED:20251216T145741Z
LAST-MODIFIED:20251216T145741Z
UID:10001085-1769630400-1769637600@centresocial-oustal.fr
SUMMARY:Atelier Volley-ball
DESCRIPTION:🏐 Le Volley-ball : un sport d’équipe complet\nLe volley-ball est un sport collectif qui oppose deux équipes de six joueurs séparées par un filet.L’objectif : faire passer le ballon au-dessus du filet et le faire toucher le sol du camp adverse\, tout en empêchant l’équipe opposée d’en faire autant.\nPour les adultes\, enfants et ados accompagnés. Sport collectif tous les lundis à 21h et les mercredis et jeudis à partir de 20h\nà la salle du gymnase à Saint Jean du Gard \nAdhesion obligatoire \nInscription à l’accueil de l’Oustal tel : 04 66 85 19 55\n \nCentre Social et Socioculturel l’Oustal \n\nLes ateliers par des habitants bénévoles \n\n\nDocs association
URL:https://centresocial-oustal.fr/activite/atelier-volley-ball-108/
CATEGORIES:Famille,L'Oustal,Séniors et vie locale
ATTACH;FMTTYPE=image/jpeg:https://centresocial-oustal.fr/wp-content/uploads/2025/09/Volley-2025-2026-e1758473378172.jpg
END:VEVENT
END:VCALENDAR