BEGIN:VCALENDAR
VERSION:2.0
PRODID:-//L&#039;Oustal - ECPv6.15.20//NONSGML v1.0//EN
CALSCALE:GREGORIAN
METHOD:PUBLISH
X-WR-CALNAME:L&#039;Oustal
X-ORIGINAL-URL:https://centresocial-oustal.fr
X-WR-CALDESC:évènements pour L&#039;Oustal
REFRESH-INTERVAL;VALUE=DURATION:PT1H
X-Robots-Tag:noindex
X-PUBLISHED-TTL:PT1H
BEGIN:VTIMEZONE
TZID:Europe/Paris
BEGIN:DAYLIGHT
TZOFFSETFROM:+0100
TZOFFSETTO:+0200
TZNAME:CEST
DTSTART:20250330T010000
END:DAYLIGHT
BEGIN:STANDARD
TZOFFSETFROM:+0200
TZOFFSETTO:+0100
TZNAME:CET
DTSTART:20251026T010000
END:STANDARD
BEGIN:DAYLIGHT
TZOFFSETFROM:+0100
TZOFFSETTO:+0200
TZNAME:CEST
DTSTART:20260329T010000
END:DAYLIGHT
BEGIN:STANDARD
TZOFFSETFROM:+0200
TZOFFSETTO:+0100
TZNAME:CET
DTSTART:20261025T010000
END:STANDARD
BEGIN:DAYLIGHT
TZOFFSETFROM:+0100
TZOFFSETTO:+0200
TZNAME:CEST
DTSTART:20270328T010000
END:DAYLIGHT
BEGIN:STANDARD
TZOFFSETFROM:+0200
TZOFFSETTO:+0100
TZNAME:CET
DTSTART:20271031T010000
END:STANDARD
END:VTIMEZONE
BEGIN:VEVENT
DTSTART;TZID=Europe/Paris:20260330T210000
DTEND;TZID=Europe/Paris:20260330T220000
DTSTAMP:20260424T054054
CREATED:20251218T142939Z
LAST-MODIFIED:20251218T142939Z
UID:10001142-1774904400-1774908000@centresocial-oustal.fr
SUMMARY:Atelier Volley-ball
DESCRIPTION:🏐 Le Volley-ball : un sport d’équipe complet\nLe volley-ball est un sport collectif qui oppose deux équipes de six joueurs séparées par un filet.L’objectif : faire passer le ballon au-dessus du filet et le faire toucher le sol du camp adverse\, tout en empêchant l’équipe opposée d’en faire autant.\nPour les adultes\, enfants et ados accompagnés. Sport collectif tous les lundis à 21h et les mercredis et jeudis à partir de 20h\nà la salle du gymnase à Saint Jean du Gard \nAdhesion obligatoire \nInscription à l’accueil de l’Oustal tel : 04 66 85 19 55\n \nCentre Social et Socioculturel l’Oustal \n\nLes ateliers par des habitants bénévoles \n\n\nDocs association
URL:https://centresocial-oustal.fr/activite/atelier-volley-ball-165/
CATEGORIES:Famille,L'Oustal,Séniors et vie locale
ATTACH;FMTTYPE=image/jpeg:https://centresocial-oustal.fr/wp-content/uploads/2025/09/Volley-2025-2026-e1758473378172.jpg
END:VEVENT
BEGIN:VEVENT
DTSTART;TZID=Europe/Paris:20260331T090000
DTEND;TZID=Europe/Paris:20260331T130000
DTSTAMP:20260424T054054
CREATED:20251211T112043Z
LAST-MODIFIED:20251211T112043Z
UID:10001069-1774947600-1774962000@centresocial-oustal.fr
SUMMARY:Atelier couture
DESCRIPTION:🪡 Atelier Couture – Créativité et Partage\nL’atelier couture du Centre Social Oustal est un espace de création\, d’échange et d’apprentissage ouvert à tous.Que vous soyez débutant(e) ou passionné(e)\, venez découvrir ou perfectionner vos techniques de couture dans une ambiance conviviale. \n🗓 Quand et où ? \n\n\nAteliers réguliers encadrés par Isabelle Blineau \n\n\nSalle d’activités – Au P’tit Oustal\, Place Augustine Soubeiran à Saint-Jean-du-Gard  tous les mardi 9h à 13h \n\n\nAdhésion obligatoire \nTarif 45€ l’année \nInscriptions à l’accueil de l’Oustal Tel : 04 66 85 19 55 \nCentre Social et Socioculturel l’Oustal \n\nDocs association \n\n\nLes ateliers par des habitants bénévoles
URL:https://centresocial-oustal.fr/activite/atelier-couture-68/
CATEGORIES:Famille,L'Oustal,Séniors et vie locale
ATTACH;FMTTYPE=image/jpeg:https://centresocial-oustal.fr/wp-content/uploads/2025/09/Atelier-couture-2025-2026.jpg
END:VEVENT
BEGIN:VEVENT
DTSTART;TZID=Europe/Paris:20260331T153000
DTEND;TZID=Europe/Paris:20260331T180000
DTSTAMP:20260424T054054
CREATED:20251210T145858Z
LAST-MODIFIED:20251210T145858Z
UID:10001043-1774971000-1774980000@centresocial-oustal.fr
SUMMARY:LAEP au P'tit Oustal
DESCRIPTION:  \nLieu d’Accueil Parents-Enfants (LAEP)\nLe Lieu d’Accueil Parents-Enfants\, ou LAEP\, est un espace convivial dédié aux familles et à leurs enfants de 0 à 6 ans. C’est un lieu de rencontres\, d’échanges et de jeux pour petits et grands. \nAccès libre et gratuit : vous venez quand vous voulez et restez le temps que vous souhaitez. \nUn accueil bienveillant\nune accueillante est présente pour vous écouter et vous accompagner dans un cadre respectueux et bienveillant. \nLe LAEP
URL:https://centresocial-oustal.fr/activite/laep-au-ptit-oustal-19/
CATEGORIES:Enfance et Jeunesse,Famille,L'Oustal
ATTACH;FMTTYPE=image/png:https://centresocial-oustal.fr/wp-content/uploads/2025/12/Fly-LAEP-du-Ptit-Oustal-.png
END:VEVENT
BEGIN:VEVENT
DTSTART;TZID=Europe/Paris:20260401T080000
DTEND;TZID=Europe/Paris:20260401T180000
DTSTAMP:20260424T054054
CREATED:20260225T075921Z
LAST-MODIFIED:20260225T075921Z
UID:10001298-1775030400-1775066400@centresocial-oustal.fr
SUMMARY:Accueil de loisirs 3/11 ans
DESCRIPTION:📍 Centre de Loisirs – 3-11 ansAu P’tit Oustal\, les enfants de 3 à 11 ans découvrent chaque semaine des activités créatives\, sportives et culturelles pendant les mercredis et vacances scolaires.\nTarifs adaptés\, bons CAF acceptés. \n\nAccueil de loisirs 3-11 ans \n\n🕑 Horaires d’inscription\nLes inscriptions se font à l’accueil de l’Oustal : \n\n\nDu lundi au vendredi \n\n\nDe 8h30 à 12h30 et de 13h30 à 17h30 \n\n\n👉 Les inscriptions : 📞 04 66 85 19 55 – ✉️ accueil@centresocial-oustal.fr \nprogramme mer mars avril \n\nAccueil & inscriptions \n\nMerci de votre confiance et à très bientôt au centre ! \nPlaces limitées \n 
URL:https://centresocial-oustal.fr/activite/accueil-de-loisirs-3-11-ans-82/
CATEGORIES:Enfance et Jeunesse,L'Oustal
ATTACH;FMTTYPE=image/jpeg:https://centresocial-oustal.fr/wp-content/uploads/2025/08/Accueil-de-loisirs-311ans1.jpg
ORGANIZER;CN="Le p'tit oustal":MAILTO:accueil@centresocial-oustal.fr
END:VEVENT
BEGIN:VEVENT
DTSTART;TZID=Europe/Paris:20260401T200000
DTEND;TZID=Europe/Paris:20260401T220000
DTSTAMP:20260424T054054
CREATED:20251218T090812Z
LAST-MODIFIED:20251218T090812Z
UID:10001092-1775073600-1775080800@centresocial-oustal.fr
SUMMARY:Atelier Volley-ball
DESCRIPTION:🏐 Le Volley-ball : un sport d’équipe complet\nLe volley-ball est un sport collectif qui oppose deux équipes de six joueurs séparées par un filet.L’objectif : faire passer le ballon au-dessus du filet et le faire toucher le sol du camp adverse\, tout en empêchant l’équipe opposée d’en faire autant.\nPour les adultes\, enfants et ados accompagnés. Sport collectif tous les lundis à 21h et les mercredis et jeudis à partir de 20h\nà la salle du gymnase à Saint Jean du Gard \nAdhesion obligatoire \nInscription à l’accueil de l’Oustal tel : 04 66 85 19 55\n \nCentre Social et Socioculturel l’Oustal \n\nLes ateliers par des habitants bénévoles \n\n\nDocs association
URL:https://centresocial-oustal.fr/activite/atelier-volley-ball-115/
CATEGORIES:Famille,L'Oustal,Séniors et vie locale
ATTACH;FMTTYPE=image/jpeg:https://centresocial-oustal.fr/wp-content/uploads/2025/09/Volley-2025-2026-e1758473378172.jpg
END:VEVENT
BEGIN:VEVENT
DTSTART;TZID=Europe/Paris:20260403T103000
DTEND;TZID=Europe/Paris:20260403T120000
DTSTAMP:20260424T054054
CREATED:20260204T150636Z
LAST-MODIFIED:20260204T150636Z
UID:10001233-1775212200-1775217600@centresocial-oustal.fr
SUMMARY:Qi-gong et Taï-Chi
DESCRIPTION:🌿 Qi Gong & Taï Chi – Énergie\, équilibre et bien-être pour adultes\nLe Qi Gong et le Taï Chi sont des pratiques douces issues des traditions chinoises\, axées sur la respiration\, le mouvement lent et la concentration.\nCes disciplines allient relaxation\, équilibre et énergie vitale\, et sont accessibles à tous les adultes\, quel que soit le niveau. \n🗓 Quand et où ? \n\nSéances hebdomadaires encadrées par un intervenant spécialisé tous les vendredis de 10h30 à 12h\nSalle de danse – Maison pour tous\, Saint-Jean-du-Gard\n\nAdhésion obligatoire \nTarif 150€ l’année \nInscriptions à l’accueil de l’Oustal Tel : 04 66 85 19 55 \nCentre Social et Socioculturel l’Oustal \n\nLes ateliers par des professionnels \n\n\nDocs association \n\n 
URL:https://centresocial-oustal.fr/activite/qi-gong-et-tai-chi-68/
CATEGORIES:Séniors et vie locale
ATTACH;FMTTYPE=image/jpeg:https://centresocial-oustal.fr/wp-content/uploads/2025/09/Qi-Gong-et-Tai-chi-2025-2026.jpg
END:VEVENT
BEGIN:VEVENT
DTSTART;TZID=Europe/Paris:20260403T161500
DTEND;TZID=Europe/Paris:20260403T171500
DTSTAMP:20260424T054054
CREATED:20260205T091917Z
LAST-MODIFIED:20260205T091917Z
UID:10001254-1775232900-1775236500@centresocial-oustal.fr
SUMMARY:Gym Adaptée
DESCRIPTION:Atelier Gym adaptée \nEncadrée par un professionnel\, cette séance hebdomadaire combine mouvements doux\, étirements et exercices respiratoires\, pour prendre soin de votre corps en toute sécurité. \nAdhésion obligatoire\nhttps://centresocial-oustal.fr/adherer-a-loustal/ \nTous les vendredis de 16h15 à 17h15\nMaison pour tous à Saint-Jean du Gard \nTarif 45€ l’année \nInscriptions à l’accueil de l’Oustal Tel : 04 66 85 19 55 \n  \n\nLes ateliers par des professionnels \n\n\nDocs association
URL:https://centresocial-oustal.fr/activite/gym-adaptee-66/
CATEGORIES:L'Oustal,Séniors et vie locale
ATTACH;FMTTYPE=image/jpeg:https://centresocial-oustal.fr/wp-content/uploads/2025/09/24E-a-lannee-Adhesion-associative-necessaire.jpg
END:VEVENT
BEGIN:VEVENT
DTSTART;TZID=Europe/Paris:20260403T170000
DTEND;TZID=Europe/Paris:20260403T223000
DTSTAMP:20260424T054054
CREATED:20260303T104014Z
LAST-MODIFIED:20260312T133510Z
UID:10001303-1775235600-1775255400@centresocial-oustal.fr
SUMMARY:Salle des jeunes
DESCRIPTION:🎵 Blind Test XXL & Jeux – Salle des Jeunes\nLa Salle des Jeunes de l’Oustal te prépare une soirée 100 % fun avec un Blind Test XXL et plein de jeux pour s’amuser entre amis ! \nAu programme :🎶 Musiques de tous styles👥 Des équipes pour s’affronter🎯 Des défis et jeux délirants😂 Des moments pour rigoler et se challenger \nUne soirée conviviale et dynamique pour tester ses connaissances musicales et partager un super moment ensemble. \n📅 Vendredi 3 avril 2026🕔 De 17h à 22h30📍Au P’tit Oustal \nℹ️ Informations pratiques\n💶 Participation : gratuite🥪 Prévoir un pique-nique ou un repas à réchauffer au micro-ondes \nOn vous attend nombreux pour une soirée pleine d’énergie et de bonne humeur 🎉🎶 \n\n\n\n\n\n\n\n\n\nProgramme SDJ maravr 2026 (1) \n\nAccueil de loisirs Ados 12-17 ans
URL:https://centresocial-oustal.fr/activite/salle-des-jeunes-88/
CATEGORIES:Enfance et Jeunesse,Famille,L'Oustal
ATTACH;FMTTYPE=image/jpeg:https://centresocial-oustal.fr/wp-content/uploads/2025/08/Salle-des-jeunes.jpg
END:VEVENT
END:VCALENDAR