BEGIN:VCALENDAR
VERSION:2.0
PRODID:-//L&#039;Oustal - ECPv6.15.20//NONSGML v1.0//EN
CALSCALE:GREGORIAN
METHOD:PUBLISH
X-ORIGINAL-URL:https://centresocial-oustal.fr
X-WR-CALDESC:évènements pour L&#039;Oustal
REFRESH-INTERVAL;VALUE=DURATION:PT1H
X-Robots-Tag:noindex
X-PUBLISHED-TTL:PT1H
BEGIN:VTIMEZONE
TZID:Europe/Paris
BEGIN:DAYLIGHT
TZOFFSETFROM:+0100
TZOFFSETTO:+0200
TZNAME:CEST
DTSTART:20240331T010000
END:DAYLIGHT
BEGIN:STANDARD
TZOFFSETFROM:+0200
TZOFFSETTO:+0100
TZNAME:CET
DTSTART:20241027T010000
END:STANDARD
BEGIN:DAYLIGHT
TZOFFSETFROM:+0100
TZOFFSETTO:+0200
TZNAME:CEST
DTSTART:20250330T010000
END:DAYLIGHT
BEGIN:STANDARD
TZOFFSETFROM:+0200
TZOFFSETTO:+0100
TZNAME:CET
DTSTART:20251026T010000
END:STANDARD
BEGIN:DAYLIGHT
TZOFFSETFROM:+0100
TZOFFSETTO:+0200
TZNAME:CEST
DTSTART:20260329T010000
END:DAYLIGHT
BEGIN:STANDARD
TZOFFSETFROM:+0200
TZOFFSETTO:+0100
TZNAME:CET
DTSTART:20261025T010000
END:STANDARD
END:VTIMEZONE
BEGIN:VEVENT
DTSTART;TZID=Europe/Paris:20250423T100000
DTEND;TZID=Europe/Paris:20250423T180000
DTSTAMP:20260420T064123
CREATED:20250403T080519Z
LAST-MODIFIED:20250408T074648Z
UID:10000824-1745402400-1745431200@centresocial-oustal.fr
SUMMARY:Salle des jeunes
DESCRIPTION:Salle des jeunes pour les collégiens de 12/17 ans à partir de la 6ème\n \nTournoi de Mario Kart \ngratuit \nPlaces limitées \nSur inscription à l’accueil de l’Oustal au 04 66 85 19 55 ou par mail : accueil@centresocial-oustal.fr \nProgramme ados vacances printemps 2025 \nhttps://centresocial-oustal.fr/accueil-de-loisirs-ados-12-17-ans/
URL:https://centresocial-oustal.fr/activite/salle-des-jeunes-54/
CATEGORIES:Enfance et Jeunesse
ATTACH;FMTTYPE=image/png:https://centresocial-oustal.fr/wp-content/uploads/2024/04/Capture-decran-2024-04-10-154837.png
END:VEVENT
BEGIN:VEVENT
DTSTART;TZID=Europe/Paris:20250424T100000
DTEND;TZID=Europe/Paris:20250424T180000
DTSTAMP:20260420T064123
CREATED:20250403T080636Z
LAST-MODIFIED:20250408T074758Z
UID:10000825-1745488800-1745517600@centresocial-oustal.fr
SUMMARY:Salle des jeunes
DESCRIPTION:Salle des jeunes pour les collégiens de 12/17 ans à partir de la 6ème\n \nEvénement « Color Circus » à Alès \ngratuit \nPlaces limitées \nSur inscription à l’accueil de l’Oustal au 04 66 85 19 55 ou par mail : accueil@centresocial-oustal.fr \nProgramme ados vacances printemps 2025 \nhttps://centresocial-oustal.fr/accueil-de-loisirs-ados-12-17-ans/
URL:https://centresocial-oustal.fr/activite/salle-des-jeunes-55/
CATEGORIES:Enfance et Jeunesse
ATTACH;FMTTYPE=image/png:https://centresocial-oustal.fr/wp-content/uploads/2024/04/Capture-decran-2024-04-10-154837.png
END:VEVENT
BEGIN:VEVENT
DTSTART;TZID=Europe/Paris:20250425T100000
DTEND;TZID=Europe/Paris:20250425T180000
DTSTAMP:20260420T064123
CREATED:20250403T080727Z
LAST-MODIFIED:20250408T074856Z
UID:10000826-1745575200-1745604000@centresocial-oustal.fr
SUMMARY:Salle des jeunes
DESCRIPTION:Salle des jeunes pour les collégiens de 12/17 ans à partir de la 6ème\n \nAccrobranche \nTarif 5€ \nPlaces limitées \nSur inscription à l’accueil de l’Oustal au 04 66 85 19 55 ou par mail : accueil@centresocial-oustal.fr \nProgramme ados vacances printemps 2025 \nhttps://centresocial-oustal.fr/accueil-de-loisirs-ados-12-17-ans/
URL:https://centresocial-oustal.fr/activite/salle-des-jeunes-56/
CATEGORIES:Enfance et Jeunesse
ATTACH;FMTTYPE=image/png:https://centresocial-oustal.fr/wp-content/uploads/2024/04/Capture-decran-2024-04-10-154837.png
END:VEVENT
BEGIN:VEVENT
DTSTART;TZID=Europe/Paris:20250430T080000
DTEND;TZID=Europe/Paris:20250430T180000
DTSTAMP:20260420T064123
CREATED:20250424T081747Z
LAST-MODIFIED:20250424T081747Z
UID:10000837-1746000000-1746036000@centresocial-oustal.fr
SUMMARY:Accueil de loisirs 3/11 ans
DESCRIPTION:L’accueil de loisirs est actuellement à l’école primaire Robert Lavesque quartier les Fumades à Saint Jean du Gard. \nprogramme centre de loisirs mercredis trimestre 3 2025 \ninformations sur l’accueil de loisirs \nModalités d’Inscriptions \nSur inscription à l’accueil de l’Oustal au 04 66 85 19 55 ou par mail : accueil@centresocial-oustal.fr \nPlaces limitées
URL:https://centresocial-oustal.fr/activite/accueil-de-loisirs-3-11-ans-47/
CATEGORIES:Enfance et Jeunesse,L'Oustal
ATTACH;FMTTYPE=image/jpeg:https://centresocial-oustal.fr/wp-content/uploads/2024/03/Affiche-ALSH-2021-2022.jpg
END:VEVENT
BEGIN:VEVENT
DTSTART;TZID=Europe/Paris:20250507T080000
DTEND;TZID=Europe/Paris:20250507T180000
DTSTAMP:20260420T064123
CREATED:20250424T081919Z
LAST-MODIFIED:20250424T081919Z
UID:10000838-1746604800-1746640800@centresocial-oustal.fr
SUMMARY:Accueil de loisirs 3/11 ans
DESCRIPTION:L’accueil de loisirs est actuellement à l’école primaire Robert Lavesque quartier les Fumades à Saint Jean du Gard. \nprogramme centre de loisirs mercredis trimestre 3 2025 \ninformations sur l’accueil de loisirs \nModalités d’Inscriptions \nSur inscription à l’accueil de l’Oustal au 04 66 85 19 55 ou par mail : accueil@centresocial-oustal.fr \nPlaces limitées
URL:https://centresocial-oustal.fr/activite/accueil-de-loisirs-3-11-ans-48/
CATEGORIES:Enfance et Jeunesse,L'Oustal
ATTACH;FMTTYPE=image/jpeg:https://centresocial-oustal.fr/wp-content/uploads/2024/03/Affiche-ALSH-2021-2022.jpg
END:VEVENT
BEGIN:VEVENT
DTSTART;TZID=Europe/Paris:20250514T080000
DTEND;TZID=Europe/Paris:20250514T180000
DTSTAMP:20260420T064123
CREATED:20250424T081950Z
LAST-MODIFIED:20250424T081950Z
UID:10000839-1747209600-1747245600@centresocial-oustal.fr
SUMMARY:Accueil de loisirs 3/11 ans
DESCRIPTION:L’accueil de loisirs est actuellement à l’école primaire Robert Lavesque quartier les Fumades à Saint Jean du Gard. \nprogramme centre de loisirs mercredis trimestre 3 2025 \ninformations sur l’accueil de loisirs \nModalités d’Inscriptions \nSur inscription à l’accueil de l’Oustal au 04 66 85 19 55 ou par mail : accueil@centresocial-oustal.fr \nPlaces limitées
URL:https://centresocial-oustal.fr/activite/accueil-de-loisirs-3-11-ans-49/
CATEGORIES:Enfance et Jeunesse,L'Oustal
ATTACH;FMTTYPE=image/jpeg:https://centresocial-oustal.fr/wp-content/uploads/2024/03/Affiche-ALSH-2021-2022.jpg
END:VEVENT
BEGIN:VEVENT
DTSTART;TZID=Europe/Paris:20250521T080000
DTEND;TZID=Europe/Paris:20250521T180000
DTSTAMP:20260420T064123
CREATED:20250424T082157Z
LAST-MODIFIED:20250424T082157Z
UID:10000841-1747814400-1747850400@centresocial-oustal.fr
SUMMARY:Accueil de loisirs 3/11 ans
DESCRIPTION:L’accueil de loisirs est actuellement à l’école primaire Robert Lavesque quartier les Fumades à Saint Jean du Gard. \nprogramme centre de loisirs mercredis trimestre 3 2025 \ninformations sur l’accueil de loisirs \nModalités d’Inscriptions \nSur inscription à l’accueil de l’Oustal au 04 66 85 19 55 ou par mail : accueil@centresocial-oustal.fr \nPlaces limitées
URL:https://centresocial-oustal.fr/activite/accueil-de-loisirs-3-11-ans-51/
CATEGORIES:Enfance et Jeunesse,L'Oustal
ATTACH;FMTTYPE=image/jpeg:https://centresocial-oustal.fr/wp-content/uploads/2024/03/Affiche-ALSH-2021-2022.jpg
END:VEVENT
BEGIN:VEVENT
DTSTART;TZID=Europe/Paris:20250528T080000
DTEND;TZID=Europe/Paris:20250528T180000
DTSTAMP:20260420T064123
CREATED:20250424T082031Z
LAST-MODIFIED:20250424T082121Z
UID:10000840-1748419200-1748455200@centresocial-oustal.fr
SUMMARY:Accueil de loisirs 3/11 ans
DESCRIPTION:L’accueil de loisirs est actuellement à l’école primaire Robert Lavesque quartier les Fumades à Saint Jean du Gard. \nprogramme centre de loisirs mercredis trimestre 3 2025 \ninformations sur l’accueil de loisirs \nModalités d’Inscriptions \nSur inscription à l’accueil de l’Oustal au 04 66 85 19 55 ou par mail : accueil@centresocial-oustal.fr \nPlaces limitées
URL:https://centresocial-oustal.fr/activite/accueil-de-loisirs-3-11-ans-50/
CATEGORIES:Enfance et Jeunesse,L'Oustal
ATTACH;FMTTYPE=image/jpeg:https://centresocial-oustal.fr/wp-content/uploads/2024/03/Affiche-ALSH-2021-2022.jpg
END:VEVENT
BEGIN:VEVENT
DTSTART;TZID=Europe/Paris:20250604T080000
DTEND;TZID=Europe/Paris:20250604T180000
DTSTAMP:20260420T064123
CREATED:20250424T082227Z
LAST-MODIFIED:20250424T082227Z
UID:10000842-1749024000-1749060000@centresocial-oustal.fr
SUMMARY:Accueil de loisirs 3/11 ans
DESCRIPTION:L’accueil de loisirs est actuellement à l’école primaire Robert Lavesque quartier les Fumades à Saint Jean du Gard. \nprogramme centre de loisirs mercredis trimestre 3 2025 \ninformations sur l’accueil de loisirs \nModalités d’Inscriptions \nSur inscription à l’accueil de l’Oustal au 04 66 85 19 55 ou par mail : accueil@centresocial-oustal.fr \nPlaces limitées
URL:https://centresocial-oustal.fr/activite/accueil-de-loisirs-3-11-ans-52/
CATEGORIES:Enfance et Jeunesse,L'Oustal
ATTACH;FMTTYPE=image/jpeg:https://centresocial-oustal.fr/wp-content/uploads/2024/03/Affiche-ALSH-2021-2022.jpg
END:VEVENT
BEGIN:VEVENT
DTSTART;TZID=Europe/Paris:20250611T080000
DTEND;TZID=Europe/Paris:20250611T180000
DTSTAMP:20260420T064123
CREATED:20250424T082253Z
LAST-MODIFIED:20250424T082253Z
UID:10000843-1749628800-1749664800@centresocial-oustal.fr
SUMMARY:Accueil de loisirs 3/11 ans
DESCRIPTION:L’accueil de loisirs est actuellement à l’école primaire Robert Lavesque quartier les Fumades à Saint Jean du Gard. \nprogramme centre de loisirs mercredis trimestre 3 2025 \ninformations sur l’accueil de loisirs \nModalités d’Inscriptions \nSur inscription à l’accueil de l’Oustal au 04 66 85 19 55 ou par mail : accueil@centresocial-oustal.fr \nPlaces limitées
URL:https://centresocial-oustal.fr/activite/accueil-de-loisirs-3-11-ans-53/
CATEGORIES:Enfance et Jeunesse,L'Oustal
ATTACH;FMTTYPE=image/jpeg:https://centresocial-oustal.fr/wp-content/uploads/2024/03/Affiche-ALSH-2021-2022.jpg
END:VEVENT
BEGIN:VEVENT
DTSTART;TZID=Europe/Paris:20250618T080000
DTEND;TZID=Europe/Paris:20250618T180000
DTSTAMP:20260420T064123
CREATED:20250424T082425Z
LAST-MODIFIED:20250424T082425Z
UID:10000844-1750233600-1750269600@centresocial-oustal.fr
SUMMARY:Accueil de loisirs 3/11 ans
DESCRIPTION:L’accueil de loisirs est actuellement à l’école primaire Robert Lavesque quartier les Fumades à Saint Jean du Gard. \nprogramme centre de loisirs mercredis trimestre 3 2025 \ninformations sur l’accueil de loisirs \nModalités d’Inscriptions \nSur inscription à l’accueil de l’Oustal au 04 66 85 19 55 ou par mail : accueil@centresocial-oustal.fr \nPlaces limitées
URL:https://centresocial-oustal.fr/activite/accueil-de-loisirs-3-11-ans-54/
CATEGORIES:Enfance et Jeunesse,L'Oustal
ATTACH;FMTTYPE=image/jpeg:https://centresocial-oustal.fr/wp-content/uploads/2024/03/Affiche-ALSH-2021-2022.jpg
END:VEVENT
BEGIN:VEVENT
DTSTART;TZID=Europe/Paris:20250625T080000
DTEND;TZID=Europe/Paris:20250625T180000
DTSTAMP:20260420T064123
CREATED:20250424T082450Z
LAST-MODIFIED:20250424T082450Z
UID:10000845-1750838400-1750874400@centresocial-oustal.fr
SUMMARY:Accueil de loisirs 3/11 ans
DESCRIPTION:L’accueil de loisirs est actuellement à l’école primaire Robert Lavesque quartier les Fumades à Saint Jean du Gard. \nprogramme centre de loisirs mercredis trimestre 3 2025 \ninformations sur l’accueil de loisirs \nModalités d’Inscriptions \nSur inscription à l’accueil de l’Oustal au 04 66 85 19 55 ou par mail : accueil@centresocial-oustal.fr \nPlaces limitées
URL:https://centresocial-oustal.fr/activite/accueil-de-loisirs-3-11-ans-55/
CATEGORIES:Enfance et Jeunesse,L'Oustal
ATTACH;FMTTYPE=image/jpeg:https://centresocial-oustal.fr/wp-content/uploads/2024/03/Affiche-ALSH-2021-2022.jpg
END:VEVENT
BEGIN:VEVENT
DTSTART;TZID=Europe/Paris:20250702T080000
DTEND;TZID=Europe/Paris:20250702T180000
DTSTAMP:20260420T064123
CREATED:20250424T082526Z
LAST-MODIFIED:20250424T082526Z
UID:10000846-1751443200-1751479200@centresocial-oustal.fr
SUMMARY:Accueil de loisirs 3/11 ans
DESCRIPTION:L’accueil de loisirs est actuellement à l’école primaire Robert Lavesque quartier les Fumades à Saint Jean du Gard. \nprogramme centre de loisirs mercredis trimestre 3 2025 \ninformations sur l’accueil de loisirs \nModalités d’Inscriptions \nSur inscription à l’accueil de l’Oustal au 04 66 85 19 55 ou par mail : accueil@centresocial-oustal.fr \nPlaces limitées
URL:https://centresocial-oustal.fr/activite/accueil-de-loisirs-3-11-ans-56/
CATEGORIES:Enfance et Jeunesse,L'Oustal
ATTACH;FMTTYPE=image/jpeg:https://centresocial-oustal.fr/wp-content/uploads/2024/03/Affiche-ALSH-2021-2022.jpg
END:VEVENT
BEGIN:VEVENT
DTSTART;TZID=Europe/Paris:20250707T080000
DTEND;TZID=Europe/Paris:20250828T180000
DTSTAMP:20260420T064123
CREATED:20250605T141946Z
LAST-MODIFIED:20250605T142010Z
UID:10000850-1751875200-1756404000@centresocial-oustal.fr
SUMMARY:Accueil de loisirs 3/11 ans
DESCRIPTION:L’accueil de loisirs se situe Au P’tit Oustal Place Augustine Soubeiran à Saint Jean du Gard. \nProgramme centre de loisirs été 2025 mois de juillet \ninformations sur l’accueil de loisirs \nModalités d’Inscriptions \nFiche de renseignements 2025 2026 Accueil de loisirs \nSur inscription à l’accueil de l’Oustal au 04 66 85 19 55 ou par mail : accueil@centresocial-oustal.fr \nPlaces limitées
URL:https://centresocial-oustal.fr/activite/accueil-de-loisirs-3-11-ans-57/
CATEGORIES:Enfance et Jeunesse,L'Oustal
ATTACH;FMTTYPE=image/jpeg:https://centresocial-oustal.fr/wp-content/uploads/2024/03/Affiche-ALSH-2021-2022.jpg
END:VEVENT
BEGIN:VEVENT
DTSTART;TZID=Europe/Paris:20250707T100000
DTEND;TZID=Europe/Paris:20250711T180000
DTSTAMP:20260420T064123
CREATED:20250623T131447Z
LAST-MODIFIED:20250623T132456Z
UID:10000852-1751882400-1752256800@centresocial-oustal.fr
SUMMARY:Salle des jeunes
DESCRIPTION:Salle des jeunes pour les collégiens de 12/17 ans à partir de la 6ème\n \nPROJET de la semaine\nRéhabilitation de la salle des jeunes \ngratuit \nPlaces limitées \nProgramme SDJ juillet 25 \nFiche de renseignements 2025 2026 – Salle des jeunes \nhttps://centresocial-oustal.fr/accueil-de-loisirs-ados-12-17-ans/
URL:https://centresocial-oustal.fr/activite/salle-des-jeunes-58/
CATEGORIES:Enfance et Jeunesse
ATTACH;FMTTYPE=image/png:https://centresocial-oustal.fr/wp-content/uploads/2024/04/Capture-decran-2024-04-10-154837.png
END:VEVENT
BEGIN:VEVENT
DTSTART;TZID=Europe/Paris:20250711T100000
DTEND;TZID=Europe/Paris:20250711T180000
DTSTAMP:20260420T064123
CREATED:20250623T132739Z
LAST-MODIFIED:20250623T132739Z
UID:10000857-1752228000-1752256800@centresocial-oustal.fr
SUMMARY:Salle des jeunes
DESCRIPTION:Salle des jeunes pour les collégiens de 12/17 ans à partir de la 6ème\n \nTous les vendredis Rivière ou mer \nGratuit  \nPlaces limitées \nSur inscription à l’accueil de l’Oustal au 04 66 85 19 55 ou par mail : accueil@centresocial-oustal.fr \nProgramme SDJ juillet 25 \nFiche de renseignements 2025 2026 – Salle des jeunes \nhttps://centresocial-oustal.fr/accueil-de-loisirs-ados-12-17-ans/
URL:https://centresocial-oustal.fr/activite/salle-des-jeunes-62/
CATEGORIES:Enfance et Jeunesse
ATTACH;FMTTYPE=image/png:https://centresocial-oustal.fr/wp-content/uploads/2024/04/Capture-decran-2024-04-10-154837.png
END:VEVENT
BEGIN:VEVENT
DTSTART;TZID=Europe/Paris:20250715T100000
DTEND;TZID=Europe/Paris:20250718T180000
DTSTAMP:20260420T064123
CREATED:20250623T131647Z
LAST-MODIFIED:20250623T132426Z
UID:10000853-1752573600-1752861600@centresocial-oustal.fr
SUMMARY:Salle des jeunes
DESCRIPTION:Salle des jeunes pour les collégiens de 12/17 ans à partir de la 6ème\n \nPROJET de la semaine\nCréation d’un mini jeu vidéo \ngratuit \nPlaces limitées \nProgramme SDJ juillet 25 \nFiche de renseignements 2025 2026 – Salle des jeunes \nhttps://centresocial-oustal.fr/accueil-de-loisirs-ados-12-17-ans/
URL:https://centresocial-oustal.fr/activite/salle-des-jeunes-59/
CATEGORIES:Enfance et Jeunesse
ATTACH;FMTTYPE=image/png:https://centresocial-oustal.fr/wp-content/uploads/2024/04/Capture-decran-2024-04-10-154837.png
END:VEVENT
BEGIN:VEVENT
DTSTART;TZID=Europe/Paris:20250718T100000
DTEND;TZID=Europe/Paris:20250718T180000
DTSTAMP:20260420T064123
CREATED:20250623T133001Z
LAST-MODIFIED:20250623T133020Z
UID:10000859-1752832800-1752861600@centresocial-oustal.fr
SUMMARY:Salle des jeunes
DESCRIPTION:Salle des jeunes pour les collégiens de 12/17 ans à partir de la 6ème\n \nTous les vendredis Rivière ou mer \nGratuit  \nPlaces limitées \nSur inscription à l’accueil de l’Oustal au 04 66 85 19 55 ou par mail : accueil@centresocial-oustal.fr \nProgramme SDJ juillet 25 \nFiche de renseignements 2025 2026 – Salle des jeunes \nhttps://centresocial-oustal.fr/accueil-de-loisirs-ados-12-17-ans/
URL:https://centresocial-oustal.fr/activite/salle-des-jeunes-63/
CATEGORIES:Enfance et Jeunesse
ATTACH;FMTTYPE=image/png:https://centresocial-oustal.fr/wp-content/uploads/2024/04/Capture-decran-2024-04-10-154837.png
END:VEVENT
BEGIN:VEVENT
DTSTART;TZID=Europe/Paris:20250721T100000
DTEND;TZID=Europe/Paris:20250725T180000
DTSTAMP:20260420T064123
CREATED:20250623T132001Z
LAST-MODIFIED:20250623T132009Z
UID:10000854-1753092000-1753466400@centresocial-oustal.fr
SUMMARY:Salle des jeunes
DESCRIPTION:Salle des jeunes pour les collégiens de 12/17 ans à partir de la 6ème\n \nPROJET de la semaine\nConstruction cabane/ bivouac \n40€ pour les 3 jours \nPlaces limitées \nSur inscription à l’accueil de l’Oustal au 04 66 85 19 55 ou par mail : accueil@centresocial-oustal.fr \nProgramme SDJ juillet 25 \nFiche de renseignements 2025 2026 – Salle des jeunes \nhttps://centresocial-oustal.fr/accueil-de-loisirs-ados-12-17-ans/
URL:https://centresocial-oustal.fr/activite/salle-des-jeunes-60/
CATEGORIES:Enfance et Jeunesse
ATTACH;FMTTYPE=image/png:https://centresocial-oustal.fr/wp-content/uploads/2024/04/Capture-decran-2024-04-10-154837.png
END:VEVENT
BEGIN:VEVENT
DTSTART;TZID=Europe/Paris:20250725T100000
DTEND;TZID=Europe/Paris:20250725T180000
DTSTAMP:20260420T064123
CREATED:20250623T133206Z
LAST-MODIFIED:20250623T133206Z
UID:10000861-1753437600-1753466400@centresocial-oustal.fr
SUMMARY:Salle des jeunes
DESCRIPTION:Salle des jeunes pour les collégiens de 12/17 ans à partir de la 6ème\n \nTous les vendredis Rivière ou mer \nGratuit  \nPlaces limitées \nSur inscription à l’accueil de l’Oustal au 04 66 85 19 55 ou par mail : accueil@centresocial-oustal.fr \nProgramme SDJ juillet 25 \nFiche de renseignements 2025 2026 – Salle des jeunes \nhttps://centresocial-oustal.fr/accueil-de-loisirs-ados-12-17-ans/
URL:https://centresocial-oustal.fr/activite/salle-des-jeunes-64/
CATEGORIES:Enfance et Jeunesse
ATTACH;FMTTYPE=image/png:https://centresocial-oustal.fr/wp-content/uploads/2024/04/Capture-decran-2024-04-10-154837.png
END:VEVENT
BEGIN:VEVENT
DTSTART;TZID=Europe/Paris:20250728T100000
DTEND;TZID=Europe/Paris:20250801T180000
DTSTAMP:20260420T064123
CREATED:20250623T132159Z
LAST-MODIFIED:20250623T132300Z
UID:10000856-1753696800-1754071200@centresocial-oustal.fr
SUMMARY:Salle des jeunes
DESCRIPTION:Salle des jeunes pour les collégiens de 12/17 ans à partir de la 6ème\n \nPROJET de la semaine\nCréation d’un guide local pour les jeunes \ngratuit \nPlaces limitées \nProgramme SDJ juillet 25 \nFiche de renseignements 2025 2026 – Salle des jeunes \nhttps://centresocial-oustal.fr/accueil-de-loisirs-ados-12-17-ans/
URL:https://centresocial-oustal.fr/activite/salle-des-jeunes-61/
CATEGORIES:Enfance et Jeunesse
ATTACH;FMTTYPE=image/png:https://centresocial-oustal.fr/wp-content/uploads/2024/04/Capture-decran-2024-04-10-154837.png
END:VEVENT
BEGIN:VEVENT
DTSTART;TZID=Europe/Paris:20250730T100000
DTEND;TZID=Europe/Paris:20250730T180000
DTSTAMP:20260420T064123
CREATED:20250623T131118Z
LAST-MODIFIED:20250623T132345Z
UID:10000851-1753869600-1753898400@centresocial-oustal.fr
SUMMARY:Salle des jeunes
DESCRIPTION:Salle des jeunes pour les collégiens de 12/17 ans à partir de la 6ème\n \nSortie Laser Games \nTarif 5€ \nPlaces limitées \nSur inscription à l’accueil de l’Oustal au 04 66 85 19 55 ou par mail : accueil@centresocial-oustal.fr \nProgramme SDJ juillet 25 \nFiche de renseignements 2025 2026 – Salle des jeunes \nhttps://centresocial-oustal.fr/accueil-de-loisirs-ados-12-17-ans/
URL:https://centresocial-oustal.fr/activite/salle-des-jeunes-57/
CATEGORIES:Enfance et Jeunesse
ATTACH;FMTTYPE=image/png:https://centresocial-oustal.fr/wp-content/uploads/2024/04/Capture-decran-2024-04-10-154837.png
END:VEVENT
BEGIN:VEVENT
DTSTART;TZID=Europe/Paris:20250801T100000
DTEND;TZID=Europe/Paris:20250801T180000
DTSTAMP:20260420T064123
CREATED:20250623T133243Z
LAST-MODIFIED:20250623T133243Z
UID:10000862-1754042400-1754071200@centresocial-oustal.fr
SUMMARY:Salle des jeunes
DESCRIPTION:Salle des jeunes pour les collégiens de 12/17 ans à partir de la 6ème\n \nTous les vendredis Rivière ou mer \nGratuit  \nPlaces limitées \nSur inscription à l’accueil de l’Oustal au 04 66 85 19 55 ou par mail : accueil@centresocial-oustal.fr \nProgramme SDJ juillet 25 \nFiche de renseignements 2025 2026 – Salle des jeunes \nhttps://centresocial-oustal.fr/accueil-de-loisirs-ados-12-17-ans/
URL:https://centresocial-oustal.fr/activite/salle-des-jeunes-65/
CATEGORIES:Enfance et Jeunesse
ATTACH;FMTTYPE=image/png:https://centresocial-oustal.fr/wp-content/uploads/2024/04/Capture-decran-2024-04-10-154837.png
END:VEVENT
BEGIN:VEVENT
DTSTART;TZID=Europe/Paris:20250913T090000
DTEND;TZID=Europe/Paris:20250913T123000
DTSTAMP:20260420T064123
CREATED:20250812T090217Z
LAST-MODIFIED:20250812T090236Z
UID:10000863-1757754000-1757766600@centresocial-oustal.fr
SUMMARY:Forum des associations
DESCRIPTION:Forum des associations.\nLe Forum des associations est le rendez-vous annuel incontournable de la vie associative\n \nJournée où les associations seront présentes pour présenter leurs activités et leur programme de l’année. \nVenez nombreux.
URL:https://centresocial-oustal.fr/activite/forum-des-associations-2/
CATEGORIES:Enfance et Jeunesse,Famille,France Service,L'Accueil,L'Oustal,Séniors et vie locale
ATTACH;FMTTYPE=image/jpeg:https://centresocial-oustal.fr/wp-content/uploads/2025/08/2.jpg
END:VEVENT
BEGIN:VEVENT
DTSTART;TZID=Europe/Paris:20250915T170000
DTEND;TZID=Europe/Paris:20250915T183000
DTSTAMP:20260420T064123
CREATED:20250915T115418Z
LAST-MODIFIED:20250915T120238Z
UID:10000877-1757955600-1757961000@centresocial-oustal.fr
SUMMARY:Atelier Badminton
DESCRIPTION:Atelier Badminton\nPour les adultes\, enfants et ados accompagnés. Sport collectif tous les lundis de 17h15 à 18h30 et les dimanches de 10h à 12h.\nà la salle du gymnase à Saint Jean du Gard. \nAdhésion obligatoire \nCentre Social et Socioculturel l’Oustal \nInscription à l’accueil de l’Oustal tel : 04 66 85 19 55 \n\nDocs association \n\n\nLes ateliers par des habitants bénévoles
URL:https://centresocial-oustal.fr/activite/atelier-badminton-67/
CATEGORIES:Enfance et Jeunesse,Famille,Séniors et vie locale
ATTACH;FMTTYPE=image/jpeg:https://centresocial-oustal.fr/wp-content/uploads/2025/09/Badminton-2025-2026.jpg
END:VEVENT
BEGIN:VEVENT
DTSTART;TZID=Europe/Paris:20250917T080000
DTEND;TZID=Europe/Paris:20250917T180000
DTSTAMP:20260420T064123
CREATED:20250826T124748Z
LAST-MODIFIED:20250904T090936Z
UID:10000866-1758096000-1758132000@centresocial-oustal.fr
SUMMARY:Accueil de loisirs 3/11 ans
DESCRIPTION:📍 Centre de Loisirs – 3-11 ansAu P’tit Oustal\, les enfants de 3 à 11 ans découvrent chaque semaine des activités créatives\, sportives et culturelles pendant les mercredis et vacances scolaires.\nTarifs adaptés\, bons CAF acceptés. \n\nAccueil de loisirs 3-11 ans \n\n🕑 Horaires d’inscription\nLes inscriptions se font à l’accueil de l’Oustal : \n\n\nDu lundi au vendredi \n\n\nDe 8h30 à 12h30 et de 13h30 à 17h30 \n\n\n👉 Les inscriptions : 📞 04 66 85 19 55 – ✉️ accueil@centresocial-oustal.fr \n\nAccueil & inscriptions \n\nMerci de votre confiance et à très bientôt au centre ! \nPlaces limitées \nprogramme centre de loisirs mercredis
URL:https://centresocial-oustal.fr/activite/accueil-de-loisirs-3-11-ans-60/
CATEGORIES:Enfance et Jeunesse,L'Oustal
ATTACH;FMTTYPE=image/jpeg:https://centresocial-oustal.fr/wp-content/uploads/2025/08/Accueil-de-loisirs-311ans1.jpg
ORGANIZER;CN="Le p'tit oustal":MAILTO:accueil@centresocial-oustal.fr
END:VEVENT
BEGIN:VEVENT
DTSTART;TZID=Europe/Paris:20250921T100000
DTEND;TZID=Europe/Paris:20250921T120000
DTSTAMP:20260420T064123
CREATED:20250915T120411Z
LAST-MODIFIED:20250915T120411Z
UID:10000879-1758448800-1758456000@centresocial-oustal.fr
SUMMARY:Atelier Badminton
DESCRIPTION:Atelier Badminton\nPour les adultes\, enfants et ados accompagnés. Sport collectif tous les lundis de 17h15 à 18h30 et les dimanches de 10h à 12h.\nà la salle du gymnase à Saint Jean du Gard. \nAdhésion obligatoire \nCentre Social et Socioculturel l’Oustal \nInscription à l’accueil de l’Oustal tel : 04 66 85 19 55 \n\nDocs association \n\n\nLes ateliers par des habitants bénévoles
URL:https://centresocial-oustal.fr/activite/atelier-badminton-94/
CATEGORIES:Enfance et Jeunesse,Famille,Séniors et vie locale
ATTACH;FMTTYPE=image/jpeg:https://centresocial-oustal.fr/wp-content/uploads/2025/09/Badminton-2025-2026.jpg
END:VEVENT
BEGIN:VEVENT
DTSTART;TZID=Europe/Paris:20250922T170000
DTEND;TZID=Europe/Paris:20250922T183000
DTSTAMP:20260420T064123
CREATED:20250915T120517Z
LAST-MODIFIED:20250915T120517Z
UID:10000881-1758560400-1758565800@centresocial-oustal.fr
SUMMARY:Atelier Badminton
DESCRIPTION:Atelier Badminton\nPour les adultes\, enfants et ados accompagnés. Sport collectif tous les lundis de 17h15 à 18h30 et les dimanches de 10h à 12h.\nà la salle du gymnase à Saint Jean du Gard. \nAdhésion obligatoire \nCentre Social et Socioculturel l’Oustal \nInscription à l’accueil de l’Oustal tel : 04 66 85 19 55 \n\nDocs association \n\n\nLes ateliers par des habitants bénévoles
URL:https://centresocial-oustal.fr/activite/atelier-badminton-96/
CATEGORIES:Enfance et Jeunesse,Famille,Séniors et vie locale
ATTACH;FMTTYPE=image/jpeg:https://centresocial-oustal.fr/wp-content/uploads/2025/09/Badminton-2025-2026.jpg
END:VEVENT
BEGIN:VEVENT
DTSTART;TZID=Europe/Paris:20250924T080000
DTEND;TZID=Europe/Paris:20250924T180000
DTSTAMP:20260420T064123
CREATED:20250826T124836Z
LAST-MODIFIED:20250904T084314Z
UID:10000867-1758700800-1758736800@centresocial-oustal.fr
SUMMARY:Accueil de loisirs 3/11 ans
DESCRIPTION:📍 Centre de Loisirs – 3-11 ansAu P’tit Oustal\, les enfants de 3 à 11 ans découvrent chaque semaine des activités créatives\, sportives et culturelles pendant les mercredis et vacances scolaires.\nTarifs adaptés\, bons CAF acceptés. \n\nAccueil de loisirs 3-11 ans \n\n🕑 Horaires d’inscription\nLes inscriptions se font à l’accueil de l’Oustal : \n\n\nDu lundi au vendredi \n\n\nDe 8h30 à 12h30 et de 13h30 à 17h30 \n\n\n👉 Les inscriptions : 📞 04 66 85 19 55 – ✉️ accueil@centresocial-oustal.fr \n\nAccueil & inscriptions \n\nMerci de votre confiance et à très bientôt au centre ! \nPlaces limitées \nprogramme centre de loisirs mercredis
URL:https://centresocial-oustal.fr/activite/accueil-de-loisirs-3-11-ans-61/
CATEGORIES:Enfance et Jeunesse,L'Oustal
ATTACH;FMTTYPE=image/jpeg:https://centresocial-oustal.fr/wp-content/uploads/2025/08/Accueil-de-loisirs-311ans1.jpg
ORGANIZER;CN="Le p'tit oustal":MAILTO:accueil@centresocial-oustal.fr
END:VEVENT
BEGIN:VEVENT
DTSTART;TZID=Europe/Paris:20250927T100000
DTEND;TZID=Europe/Paris:20250927T110000
DTSTAMP:20260420T064123
CREATED:20250922T122809Z
LAST-MODIFIED:20250922T122902Z
UID:10000905-1758967200-1758970800@centresocial-oustal.fr
SUMMARY:Ateliers Enfants-Parents
DESCRIPTION:Pour les enfants de 0 à 7 ans\, accompagnés de leurs parents\, programme sur demande \nlivret atelier parents enfants 2025-26 \nAtelier autour du conte et de l’oralité à la ludothèque\nsamedi 27 septembre 2025 de 10h à 11h  \nGratuit \nVenez nombreux ! \nAteliers Hebdomadaires organisés par des professionnels renseignements \nL’accès est libre ou sur inscription à : accueil@centresocial-oustal.fr ou bien par téléphone au 04 66 85 19 55 \n 
URL:https://centresocial-oustal.fr/activite/ateliers-enfants-parents-13/
CATEGORIES:Enfance et Jeunesse,Famille,L'Oustal
ATTACH;FMTTYPE=image/jpeg:https://centresocial-oustal.fr/wp-content/uploads/2025/09/DSC_3408.jpg
END:VEVENT
END:VCALENDAR