BEGIN:VCALENDAR
VERSION:2.0
PRODID:-//L&#039;Oustal - ECPv6.15.20//NONSGML v1.0//EN
CALSCALE:GREGORIAN
METHOD:PUBLISH
X-ORIGINAL-URL:https://centresocial-oustal.fr
X-WR-CALDESC:évènements pour L&#039;Oustal
REFRESH-INTERVAL;VALUE=DURATION:PT1H
X-Robots-Tag:noindex
X-PUBLISHED-TTL:PT1H
BEGIN:VTIMEZONE
TZID:Europe/Paris
BEGIN:DAYLIGHT
TZOFFSETFROM:+0100
TZOFFSETTO:+0200
TZNAME:CEST
DTSTART:20240331T010000
END:DAYLIGHT
BEGIN:STANDARD
TZOFFSETFROM:+0200
TZOFFSETTO:+0100
TZNAME:CET
DTSTART:20241027T010000
END:STANDARD
BEGIN:DAYLIGHT
TZOFFSETFROM:+0100
TZOFFSETTO:+0200
TZNAME:CEST
DTSTART:20250330T010000
END:DAYLIGHT
BEGIN:STANDARD
TZOFFSETFROM:+0200
TZOFFSETTO:+0100
TZNAME:CET
DTSTART:20251026T010000
END:STANDARD
BEGIN:DAYLIGHT
TZOFFSETFROM:+0100
TZOFFSETTO:+0200
TZNAME:CEST
DTSTART:20260329T010000
END:DAYLIGHT
BEGIN:STANDARD
TZOFFSETFROM:+0200
TZOFFSETTO:+0100
TZNAME:CET
DTSTART:20261025T010000
END:STANDARD
END:VTIMEZONE
BEGIN:VEVENT
DTSTART;TZID=Europe/Paris:20250326T080000
DTEND;TZID=Europe/Paris:20250326T180000
DTSTAMP:20260420T022459
CREATED:20250402T142418Z
LAST-MODIFIED:20250402T143105Z
UID:10000820-1742976000-1743012000@centresocial-oustal.fr
SUMMARY:Accueil de loisirs 3/11 ans
DESCRIPTION:L’accueil de loisirs aura lieu à l’école primaire Robert Lavesque quartier les Fumades à Saint Jean du Gard. \nprogramme centre de loisirs mercredis mars Avril 2025 \ninformations sur l’accueil de loisirs \nModalités d’Inscriptions \nSur inscription à l’accueil de l’Oustal au 04 66 85 19 55 ou par mail : accueil@centresocial-oustal.fr \nPlaces limitées
URL:https://centresocial-oustal.fr/activite/accueil-de-loisirs-3-11-ans-44/
CATEGORIES:Enfance et Jeunesse,L'Oustal
ATTACH;FMTTYPE=image/jpeg:https://centresocial-oustal.fr/wp-content/uploads/2024/03/Affiche-ALSH-2021-2022.jpg
END:VEVENT
BEGIN:VEVENT
DTSTART;TZID=Europe/Paris:20250328T180000
DTEND;TZID=Europe/Paris:20250328T223000
DTSTAMP:20260420T022459
CREATED:20250305T125723Z
LAST-MODIFIED:20250305T125723Z
UID:10000810-1743184800-1743201000@centresocial-oustal.fr
SUMMARY:Salle des jeunes
DESCRIPTION:Salle des jeunes pour les collégiens de 12/17 ans à partir de la 6ème\n \n Soirée initiation JDR à la casa jeu Alès \nGratuit \nPlaces limitées \nSur inscription à l’accueil de l’Oustal au 04 66 85 19 55 ou par mail : accueil@centresocial-oustal.fr \nprog SDJ Mars-Avril 2025 \nhttps://centresocial-oustal.fr/accueil-de-loisirs-ados-12-17-ans/
URL:https://centresocial-oustal.fr/activite/salle-des-jeunes-51/
CATEGORIES:Enfance et Jeunesse
ATTACH;FMTTYPE=image/png:https://centresocial-oustal.fr/wp-content/uploads/2024/04/Capture-decran-2024-04-10-154837.png
END:VEVENT
END:VCALENDAR