BEGIN:VCALENDAR
VERSION:2.0
PRODID:-//L&#039;Oustal - ECPv6.15.20//NONSGML v1.0//EN
CALSCALE:GREGORIAN
METHOD:PUBLISH
X-ORIGINAL-URL:https://centresocial-oustal.fr
X-WR-CALDESC:évènements pour L&#039;Oustal
REFRESH-INTERVAL;VALUE=DURATION:PT1H
X-Robots-Tag:noindex
X-PUBLISHED-TTL:PT1H
BEGIN:VTIMEZONE
TZID:Europe/Paris
BEGIN:DAYLIGHT
TZOFFSETFROM:+0100
TZOFFSETTO:+0200
TZNAME:CEST
DTSTART:20230326T010000
END:DAYLIGHT
BEGIN:STANDARD
TZOFFSETFROM:+0200
TZOFFSETTO:+0100
TZNAME:CET
DTSTART:20231029T010000
END:STANDARD
BEGIN:DAYLIGHT
TZOFFSETFROM:+0100
TZOFFSETTO:+0200
TZNAME:CEST
DTSTART:20240331T010000
END:DAYLIGHT
BEGIN:STANDARD
TZOFFSETFROM:+0200
TZOFFSETTO:+0100
TZNAME:CET
DTSTART:20241027T010000
END:STANDARD
BEGIN:DAYLIGHT
TZOFFSETFROM:+0100
TZOFFSETTO:+0200
TZNAME:CEST
DTSTART:20250330T010000
END:DAYLIGHT
BEGIN:STANDARD
TZOFFSETFROM:+0200
TZOFFSETTO:+0100
TZNAME:CET
DTSTART:20251026T010000
END:STANDARD
BEGIN:DAYLIGHT
TZOFFSETFROM:+0100
TZOFFSETTO:+0200
TZNAME:CEST
DTSTART:20260329T010000
END:DAYLIGHT
BEGIN:STANDARD
TZOFFSETFROM:+0200
TZOFFSETTO:+0100
TZNAME:CET
DTSTART:20261025T010000
END:STANDARD
END:VTIMEZONE
BEGIN:VEVENT
DTSTART;TZID=Europe/Paris:20241206T170000
DTEND;TZID=Europe/Paris:20241206T190000
DTSTAMP:20260420T094049
CREATED:20241003T130316Z
LAST-MODIFIED:20241105T150540Z
UID:10000460-1733504400-1733511600@centresocial-oustal.fr
SUMMARY:Salle des jeunes
DESCRIPTION:Salle des jeunes pour les collégiens de 12/17 ans \nAccueil libre \nPlaces limitées \nGratuit \nSur inscription à l’accueil de l’Oustal au 04 66 85 19 55 ou par mail : accueil@centresocial-oustal.fr \n  \nhttps://centresocial-oustal.fr/accueil-de-loisirs-ados-12-17-ans/
URL:https://centresocial-oustal.fr/activite/salle-des-jeunes-30/
CATEGORIES:Enfance et Jeunesse
ATTACH;FMTTYPE=image/png:https://centresocial-oustal.fr/wp-content/uploads/2024/04/Capture-decran-2024-04-10-154837.png
END:VEVENT
BEGIN:VEVENT
DTSTART;TZID=Europe/Paris:20241210T170000
DTEND;TZID=Europe/Paris:20241210T190000
DTSTAMP:20260420T094049
CREATED:20241003T130807Z
LAST-MODIFIED:20241003T130807Z
UID:10000463-1733850000-1733857200@centresocial-oustal.fr
SUMMARY:Salle des jeunes
DESCRIPTION:Salle des jeunes pour les collégiens de 12/17 ans \nAccueil libre \nPlaces limitées \nGratuit \nSur inscription à l’accueil de l’Oustal au 04 66 85 19 55 ou par mail : accueil@centresocial-oustal.fr \n  \nhttps://centresocial-oustal.fr/accueil-de-loisirs-ados-12-17-ans/
URL:https://centresocial-oustal.fr/activite/salle-des-jeunes-33/
CATEGORIES:Enfance et Jeunesse
ATTACH;FMTTYPE=image/png:https://centresocial-oustal.fr/wp-content/uploads/2024/04/Capture-decran-2024-04-10-154837.png
END:VEVENT
BEGIN:VEVENT
DTSTART;TZID=Europe/Paris:20241211T080000
DTEND;TZID=Europe/Paris:20241211T180000
DTSTAMP:20260420T094049
CREATED:20241029T085822Z
LAST-MODIFIED:20241029T090124Z
UID:10000527-1733904000-1733940000@centresocial-oustal.fr
SUMMARY:Accueil de loisirs 3/11 ans
DESCRIPTION:L’accueil de loisirs aura lieu à l’école primaire Robert Lavesque quartier les Fumades à Saint Jean du Gard. \nmercredis novembre-décembre 2024 \ninformations sur l’accueil de loisirs \nModalités d’Inscriptions \nSur inscription à l’accueil de l’Oustal au 04 66 85 19 55 ou par mail : accueil@centresocial-oustal.fr \nPlaces limitées
URL:https://centresocial-oustal.fr/activite/accueil-de-loisirs-3-11-ans-30/
CATEGORIES:Enfance et Jeunesse,L'Oustal
ATTACH;FMTTYPE=image/jpeg:https://centresocial-oustal.fr/wp-content/uploads/2024/03/Affiche-ALSH-2021-2022.jpg
END:VEVENT
BEGIN:VEVENT
DTSTART;TZID=Europe/Paris:20241214T100000
DTEND;TZID=Europe/Paris:20241214T180000
DTSTAMP:20260420T094049
CREATED:20241105T145857Z
LAST-MODIFIED:20241105T145857Z
UID:10000531-1734170400-1734199200@centresocial-oustal.fr
SUMMARY:Salle des jeunes
DESCRIPTION:Salle des jeunes pour les collégiens de 12/17 ans \nGeek Week\nPlaces limitées \nTarif  5€ \nSur inscription à l’accueil de l’Oustal au 04 66 85 19 55 ou par mail : accueil@centresocial-oustal.fr \nnovembre-décembre 2024 SDJ (site-facebook) \nhttps://centresocial-oustal.fr/accueil-de-loisirs-ados-12-17-ans/
URL:https://centresocial-oustal.fr/activite/salle-des-jeunes-42/
CATEGORIES:Enfance et Jeunesse
ATTACH;FMTTYPE=image/png:https://centresocial-oustal.fr/wp-content/uploads/2024/04/Capture-decran-2024-04-10-154837.png
END:VEVENT
BEGIN:VEVENT
DTSTART;TZID=Europe/Paris:20241214T140000
DTEND;TZID=Europe/Paris:20241214T180000
DTSTAMP:20260420T094049
CREATED:20241204T104217Z
LAST-MODIFIED:20241204T104217Z
UID:10000604-1734184800-1734199200@centresocial-oustal.fr
SUMMARY:Kermesse de Noël
DESCRIPTION:Venez nombreux à la kermesse de Noël \, le samedi 14 décembre à l’espace Paulhan bas. \nC’est l’occasion de partager un moment festif avec d’autres parents\, d’autres enfants et faire une photo avec le père Noël si vous le souhaitez. \nUne façon de clôturer l’année avec des jeux\, des activités manuelles et vous restaurez dans la bonne ambiance chaleureuse de Noël.
URL:https://centresocial-oustal.fr/activite/kermesse-de-noel/
CATEGORIES:Enfance et Jeunesse,Famille,L'Oustal
ATTACH;FMTTYPE=image/jpeg:https://centresocial-oustal.fr/wp-content/uploads/2024/12/Affiche-Annonce-Fete-de-Noel-Illustre-Bleu-Blanc-Rouge.jpg
END:VEVENT
BEGIN:VEVENT
DTSTART;TZID=Europe/Paris:20241217T170000
DTEND;TZID=Europe/Paris:20241217T190000
DTSTAMP:20260420T094049
CREATED:20241003T130847Z
LAST-MODIFIED:20241003T130847Z
UID:10000464-1734454800-1734462000@centresocial-oustal.fr
SUMMARY:Salle des jeunes
DESCRIPTION:Salle des jeunes pour les collégiens de 12/17 ans \nAccueil libre \nPlaces limitées \nGratuit \nSur inscription à l’accueil de l’Oustal au 04 66 85 19 55 ou par mail : accueil@centresocial-oustal.fr \n  \nhttps://centresocial-oustal.fr/accueil-de-loisirs-ados-12-17-ans/
URL:https://centresocial-oustal.fr/activite/salle-des-jeunes-34/
CATEGORIES:Enfance et Jeunesse
ATTACH;FMTTYPE=image/png:https://centresocial-oustal.fr/wp-content/uploads/2024/04/Capture-decran-2024-04-10-154837.png
END:VEVENT
BEGIN:VEVENT
DTSTART;TZID=Europe/Paris:20241218T080000
DTEND;TZID=Europe/Paris:20241218T180000
DTSTAMP:20260420T094049
CREATED:20241029T090300Z
LAST-MODIFIED:20241029T091654Z
UID:10000528-1734508800-1734544800@centresocial-oustal.fr
SUMMARY:Accueil de loisirs 3/11 ans
DESCRIPTION:L’accueil de loisirs aura lieu à l’école primaire Robert Lavesque quartier les Fumades à Saint Jean du Gard. \nmercredis novembre-décembre 2024 \ninformations sur l’accueil de loisirs \nModalités d’Inscriptions \nSur inscription à l’accueil de l’Oustal au 04 66 85 19 55 ou par mail : accueil@centresocial-oustal.fr \nPlaces limitées
URL:https://centresocial-oustal.fr/activite/accueil-de-loisirs-3-11-ans-31/
CATEGORIES:Enfance et Jeunesse,L'Oustal
ATTACH;FMTTYPE=image/jpeg:https://centresocial-oustal.fr/wp-content/uploads/2024/03/Affiche-ALSH-2021-2022.jpg
END:VEVENT
BEGIN:VEVENT
DTSTART;TZID=Europe/Paris:20250108T080000
DTEND;TZID=Europe/Paris:20250108T180000
DTSTAMP:20260420T094049
CREATED:20250128T101444Z
LAST-MODIFIED:20250128T101444Z
UID:10000703-1736323200-1736359200@centresocial-oustal.fr
SUMMARY:Accueil de loisirs 3/11 ans
DESCRIPTION:L’accueil de loisirs aura lieu à l’école primaire Robert Lavesque quartier les Fumades à Saint Jean du Gard. \nprogramme centre de loisirs janvier février 2025 \ninformations sur l’accueil de loisirs \nModalités d’Inscriptions \nSur inscription à l’accueil de l’Oustal au 04 66 85 19 55 ou par mail : accueil@centresocial-oustal.fr \nPlaces limitées
URL:https://centresocial-oustal.fr/activite/accueil-de-loisirs-3-11-ans-33/
CATEGORIES:Enfance et Jeunesse,L'Oustal
ATTACH;FMTTYPE=image/jpeg:https://centresocial-oustal.fr/wp-content/uploads/2024/03/Affiche-ALSH-2021-2022.jpg
END:VEVENT
BEGIN:VEVENT
DTSTART;TZID=Europe/Paris:20250115T080000
DTEND;TZID=Europe/Paris:20250115T180000
DTSTAMP:20260420T094049
CREATED:20250128T101604Z
LAST-MODIFIED:20250128T101604Z
UID:10000704-1736928000-1736964000@centresocial-oustal.fr
SUMMARY:Accueil de loisirs 3/11 ans
DESCRIPTION:L’accueil de loisirs aura lieu à l’école primaire Robert Lavesque quartier les Fumades à Saint Jean du Gard. \nprogramme centre de loisirs janvier février 2025 \ninformations sur l’accueil de loisirs \nModalités d’Inscriptions \nSur inscription à l’accueil de l’Oustal au 04 66 85 19 55 ou par mail : accueil@centresocial-oustal.fr \nPlaces limitées
URL:https://centresocial-oustal.fr/activite/accueil-de-loisirs-3-11-ans-34/
CATEGORIES:Enfance et Jeunesse,L'Oustal
ATTACH;FMTTYPE=image/jpeg:https://centresocial-oustal.fr/wp-content/uploads/2024/03/Affiche-ALSH-2021-2022.jpg
END:VEVENT
BEGIN:VEVENT
DTSTART;TZID=Europe/Paris:20250122T080000
DTEND;TZID=Europe/Paris:20250122T180000
DTSTAMP:20260420T094049
CREATED:20250128T101739Z
LAST-MODIFIED:20250128T101739Z
UID:10000705-1737532800-1737568800@centresocial-oustal.fr
SUMMARY:Accueil de loisirs 3/11 ans
DESCRIPTION:L’accueil de loisirs aura lieu à l’école primaire Robert Lavesque quartier les Fumades à Saint Jean du Gard. \nprogramme centre de loisirs janvier février 2025 \ninformations sur l’accueil de loisirs \nModalités d’Inscriptions \nSur inscription à l’accueil de l’Oustal au 04 66 85 19 55 ou par mail : accueil@centresocial-oustal.fr \nPlaces limitées
URL:https://centresocial-oustal.fr/activite/accueil-de-loisirs-3-11-ans-35/
CATEGORIES:Enfance et Jeunesse,L'Oustal
ATTACH;FMTTYPE=image/jpeg:https://centresocial-oustal.fr/wp-content/uploads/2024/03/Affiche-ALSH-2021-2022.jpg
END:VEVENT
BEGIN:VEVENT
DTSTART;TZID=Europe/Paris:20250129T080000
DTEND;TZID=Europe/Paris:20250129T180000
DTSTAMP:20260420T094049
CREATED:20250128T101915Z
LAST-MODIFIED:20250128T101915Z
UID:10000706-1738137600-1738173600@centresocial-oustal.fr
SUMMARY:Accueil de loisirs 3/11 ans
DESCRIPTION:L’accueil de loisirs aura lieu à l’école primaire Robert Lavesque quartier les Fumades à Saint Jean du Gard. \nprogramme centre de loisirs janvier février 2025 \ninformations sur l’accueil de loisirs \nModalités d’Inscriptions \nSur inscription à l’accueil de l’Oustal au 04 66 85 19 55 ou par mail : accueil@centresocial-oustal.fr \nPlaces limitées
URL:https://centresocial-oustal.fr/activite/accueil-de-loisirs-3-11-ans-36/
CATEGORIES:Enfance et Jeunesse,L'Oustal
ATTACH;FMTTYPE=image/jpeg:https://centresocial-oustal.fr/wp-content/uploads/2024/03/Affiche-ALSH-2021-2022.jpg
END:VEVENT
BEGIN:VEVENT
DTSTART;TZID=Europe/Paris:20250205T080000
DTEND;TZID=Europe/Paris:20250205T180000
DTSTAMP:20260420T094049
CREATED:20250128T102111Z
LAST-MODIFIED:20250128T102111Z
UID:10000707-1738742400-1738778400@centresocial-oustal.fr
SUMMARY:Accueil de loisirs 3/11 ans
DESCRIPTION:L’accueil de loisirs aura lieu à l’école primaire Robert Lavesque quartier les Fumades à Saint Jean du Gard. \nprogramme centre de loisirs janvier février 2025 \ninformations sur l’accueil de loisirs \nModalités d’Inscriptions \nSur inscription à l’accueil de l’Oustal au 04 66 85 19 55 ou par mail : accueil@centresocial-oustal.fr \nPlaces limitées
URL:https://centresocial-oustal.fr/activite/accueil-de-loisirs-3-11-ans-37/
CATEGORIES:Enfance et Jeunesse,L'Oustal
ATTACH;FMTTYPE=image/jpeg:https://centresocial-oustal.fr/wp-content/uploads/2024/03/Affiche-ALSH-2021-2022.jpg
END:VEVENT
BEGIN:VEVENT
DTSTART;TZID=Europe/Paris:20250212T080000
DTEND;TZID=Europe/Paris:20250212T180000
DTSTAMP:20260420T094049
CREATED:20250128T104120Z
LAST-MODIFIED:20250128T104120Z
UID:10000708-1739347200-1739383200@centresocial-oustal.fr
SUMMARY:Accueil de loisirs 3/11 ans
DESCRIPTION:L’accueil de loisirs aura lieu à l’école primaire Robert Lavesque quartier les Fumades à Saint Jean du Gard. \nprogramme centre de loisirs janvier février 2025 \ninformations sur l’accueil de loisirs \nModalités d’Inscriptions \nSur inscription à l’accueil de l’Oustal au 04 66 85 19 55 ou par mail : accueil@centresocial-oustal.fr \nPlaces limitées
URL:https://centresocial-oustal.fr/activite/accueil-de-loisirs-3-11-ans-38/
CATEGORIES:Enfance et Jeunesse,L'Oustal
ATTACH;FMTTYPE=image/jpeg:https://centresocial-oustal.fr/wp-content/uploads/2024/03/Affiche-ALSH-2021-2022.jpg
END:VEVENT
BEGIN:VEVENT
DTSTART;TZID=Europe/Paris:20250217T080000
DTEND;TZID=Europe/Paris:20250228T180000
DTSTAMP:20260420T094049
CREATED:20250128T101206Z
LAST-MODIFIED:20250203T144212Z
UID:10000702-1739779200-1740765600@centresocial-oustal.fr
SUMMARY:Accueil de loisirs 3/11 ans
DESCRIPTION:L’accueil de loisirs aura lieu à l’école primaire Robert Lavesque quartier les Fumades à Saint Jean du Gard. \nprogramme vacances hiver \ninformations sur l’accueil de loisirs \nModalités d’Inscriptions \nSur inscription à l’accueil de l’Oustal au 04 66 85 19 55 ou par mail : accueil@centresocial-oustal.fr \nPlaces limitées
URL:https://centresocial-oustal.fr/activite/accueil-de-loisirs-3-11-ans-32/
CATEGORIES:Enfance et Jeunesse,L'Oustal
ATTACH;FMTTYPE=image/jpeg:https://centresocial-oustal.fr/wp-content/uploads/2024/03/Affiche-ALSH-2021-2022.jpg
END:VEVENT
BEGIN:VEVENT
DTSTART;TZID=Europe/Paris:20250217T100000
DTEND;TZID=Europe/Paris:20250217T180000
DTSTAMP:20260420T094049
CREATED:20250204T133728Z
LAST-MODIFIED:20250206T100748Z
UID:10000721-1739786400-1739815200@centresocial-oustal.fr
SUMMARY:Salle des jeunes
DESCRIPTION:Salle des jeunes pour les collégiens de 12/17 ans à partir de la 6ème\n \nSortie Bowling\n \nTarif 5€ \nPlaces limitées \nGratuit (sauf dans le cadre de sorties : précisé sur le programme)\n \nSur inscription à l’accueil de l’Oustal au 04 66 85 19 55 ou par mail : accueil@centresocial-oustal.fr \nprogramme vacances hiver \nhttps://centresocial-oustal.fr/accueil-de-loisirs-ados-12-17-ans/
URL:https://centresocial-oustal.fr/activite/salle-des-jeunes-44/
CATEGORIES:Enfance et Jeunesse
ATTACH;FMTTYPE=image/jpeg:https://centresocial-oustal.fr/wp-content/uploads/2025/02/Bowling-ales.jpg
END:VEVENT
BEGIN:VEVENT
DTSTART;TZID=Europe/Paris:20250218T100000
DTEND;TZID=Europe/Paris:20250218T180000
DTSTAMP:20260420T094049
CREATED:20250204T133926Z
LAST-MODIFIED:20250204T133926Z
UID:10000722-1739872800-1739901600@centresocial-oustal.fr
SUMMARY:Salle des jeunes
DESCRIPTION:Salle des jeunes pour les collégiens de 12/17 ans à partir de la 6ème\n \nAccueil libre et City stade \nPlaces limitées \nGratuit (sauf dans le cadre de sorties : précisé sur le programme)\n \nSur inscription à l’accueil de l’Oustal au 04 66 85 19 55 ou par mail : accueil@centresocial-oustal.fr \nprogramme vacances hiver \nhttps://centresocial-oustal.fr/accueil-de-loisirs-ados-12-17-ans/
URL:https://centresocial-oustal.fr/activite/salle-des-jeunes-45/
CATEGORIES:Enfance et Jeunesse
ATTACH;FMTTYPE=image/png:https://centresocial-oustal.fr/wp-content/uploads/2024/04/Capture-decran-2024-04-10-154837.png
END:VEVENT
BEGIN:VEVENT
DTSTART;TZID=Europe/Paris:20250219T100000
DTEND;TZID=Europe/Paris:20250219T180000
DTSTAMP:20260420T094049
CREATED:20250204T134237Z
LAST-MODIFIED:20250204T134237Z
UID:10000723-1739959200-1739988000@centresocial-oustal.fr
SUMMARY:Salle des jeunes
DESCRIPTION:Salle des jeunes pour les collégiens de 12/17 ans à partir de la 6ème\n \nTournoi Baby-foot/fléchette pétanque (viens avec tes boules de pétanques!)\n \nPlaces limitées \nGratuit (sauf dans le cadre de sorties : précisé sur le programme)\n \nSur inscription à l’accueil de l’Oustal au 04 66 85 19 55 ou par mail : accueil@centresocial-oustal.fr \nprogramme vacances hiver \nhttps://centresocial-oustal.fr/accueil-de-loisirs-ados-12-17-ans/
URL:https://centresocial-oustal.fr/activite/salle-des-jeunes-46/
CATEGORIES:Enfance et Jeunesse
ATTACH;FMTTYPE=image/png:https://centresocial-oustal.fr/wp-content/uploads/2024/04/Capture-decran-2024-04-10-154837.png
END:VEVENT
BEGIN:VEVENT
DTSTART;TZID=Europe/Paris:20250220T100000
DTEND;TZID=Europe/Paris:20250220T180000
DTSTAMP:20260420T094049
CREATED:20250204T134438Z
LAST-MODIFIED:20250206T100217Z
UID:10000724-1740045600-1740074400@centresocial-oustal.fr
SUMMARY:Salle des jeunes
DESCRIPTION:Salle des jeunes pour les collégiens de 12/17 ans à partir de la 6ème\n \nCinéma\n \nTarif 5€ \nPlaces limitées \nGratuit (sauf dans le cadre de sorties : précisé sur le programme)\n \nSur inscription à l’accueil de l’Oustal au 04 66 85 19 55 ou par mail : accueil@centresocial-oustal.fr \nprogramme vacances hiver \nhttps://centresocial-oustal.fr/accueil-de-loisirs-ados-12-17-ans/
URL:https://centresocial-oustal.fr/activite/salle-des-jeunes-47/
CATEGORIES:Enfance et Jeunesse
ATTACH;FMTTYPE=image/jpeg:https://centresocial-oustal.fr/wp-content/uploads/2025/02/Sortie-cinema.jpg
END:VEVENT
BEGIN:VEVENT
DTSTART;TZID=Europe/Paris:20250221T100000
DTEND;TZID=Europe/Paris:20250221T180000
DTSTAMP:20260420T094049
CREATED:20250204T134718Z
LAST-MODIFIED:20250204T134718Z
UID:10000725-1740132000-1740160800@centresocial-oustal.fr
SUMMARY:Salle des jeunes
DESCRIPTION:Salle des jeunes pour les collégiens de 12/17 ans à partir de la 6ème\n \nJournée jeux de société et chocolat chaud \n \nPlaces limitées \nGratuit (sauf dans le cadre de sorties : précisé sur le programme)\n \nSur inscription à l’accueil de l’Oustal au 04 66 85 19 55 ou par mail : accueil@centresocial-oustal.fr \nprogramme vacances hiver \nhttps://centresocial-oustal.fr/accueil-de-loisirs-ados-12-17-ans/
URL:https://centresocial-oustal.fr/activite/salle-des-jeunes-48/
CATEGORIES:Enfance et Jeunesse
ATTACH;FMTTYPE=image/png:https://centresocial-oustal.fr/wp-content/uploads/2024/04/Capture-decran-2024-04-10-154837.png
END:VEVENT
BEGIN:VEVENT
DTSTART;TZID=Europe/Paris:20250305T080000
DTEND;TZID=Europe/Paris:20250305T180000
DTSTAMP:20260420T094049
CREATED:20250402T140056Z
LAST-MODIFIED:20250402T140323Z
UID:10000817-1741161600-1741197600@centresocial-oustal.fr
SUMMARY:Accueil de loisirs 3/11 ans
DESCRIPTION:L’accueil de loisirs aura lieu à l’école primaire Robert Lavesque quartier les Fumades à Saint Jean du Gard. \nprogramme centre de loisirs mercredis mars Avril 2025 \ninformations sur l’accueil de loisirs \nModalités d’Inscriptions \nSur inscription à l’accueil de l’Oustal au 04 66 85 19 55 ou par mail : accueil@centresocial-oustal.fr \nPlaces limitées
URL:https://centresocial-oustal.fr/activite/accueil-de-loisirs-3-11-ans-41/
CATEGORIES:Enfance et Jeunesse,L'Oustal
ATTACH;FMTTYPE=image/jpeg:https://centresocial-oustal.fr/wp-content/uploads/2024/03/Affiche-ALSH-2021-2022.jpg
END:VEVENT
BEGIN:VEVENT
DTSTART;TZID=Europe/Paris:20250307T170000
DTEND;TZID=Europe/Paris:20250307T223000
DTSTAMP:20260420T094049
CREATED:20250305T125229Z
LAST-MODIFIED:20250305T125229Z
UID:10000808-1741366800-1741386600@centresocial-oustal.fr
SUMMARY:Salle des jeunes
DESCRIPTION:Salle des jeunes pour les collégiens de 12/17 ans à partir de la 6ème\n \nSoirée film et popcorn\n \nPlaces limitées \nSur inscription à l’accueil de l’Oustal au 04 66 85 19 55 ou par mail : accueil@centresocial-oustal.fr \nprog SDJ Mars-Avril 2025 \nhttps://centresocial-oustal.fr/accueil-de-loisirs-ados-12-17-ans/
URL:https://centresocial-oustal.fr/activite/salle-des-jeunes-49/
CATEGORIES:Enfance et Jeunesse
ATTACH;FMTTYPE=image/png:https://centresocial-oustal.fr/wp-content/uploads/2024/04/Capture-decran-2024-04-10-154837.png
END:VEVENT
BEGIN:VEVENT
DTSTART;TZID=Europe/Paris:20250312T080000
DTEND;TZID=Europe/Paris:20250312T180000
DTSTAMP:20260420T094049
CREATED:20250402T142159Z
LAST-MODIFIED:20250402T142159Z
UID:10000818-1741766400-1741802400@centresocial-oustal.fr
SUMMARY:Accueil de loisirs 3/11 ans
DESCRIPTION:L’accueil de loisirs aura lieu à l’école primaire Robert Lavesque quartier les Fumades à Saint Jean du Gard. \nprogramme centre de loisirs mercredis mars Avril 2025 \ninformations sur l’accueil de loisirs \nModalités d’Inscriptions \nSur inscription à l’accueil de l’Oustal au 04 66 85 19 55 ou par mail : accueil@centresocial-oustal.fr \nPlaces limitées
URL:https://centresocial-oustal.fr/activite/accueil-de-loisirs-3-11-ans-42/
CATEGORIES:Enfance et Jeunesse,L'Oustal
ATTACH;FMTTYPE=image/jpeg:https://centresocial-oustal.fr/wp-content/uploads/2024/03/Affiche-ALSH-2021-2022.jpg
END:VEVENT
BEGIN:VEVENT
DTSTART;TZID=Europe/Paris:20250319T080000
DTEND;TZID=Europe/Paris:20250319T180000
DTSTAMP:20260420T094049
CREATED:20250402T142318Z
LAST-MODIFIED:20250402T143157Z
UID:10000819-1742371200-1742407200@centresocial-oustal.fr
SUMMARY:Accueil de loisirs 3/11 ans
DESCRIPTION:L’accueil de loisirs aura lieu à l’école primaire Robert Lavesque quartier les Fumades à Saint Jean du Gard. \nprogramme centre de loisirs mercredis mars Avril 2025 \ninformations sur l’accueil de loisirs \nModalités d’Inscriptions \nSur inscription à l’accueil de l’Oustal au 04 66 85 19 55 ou par mail : accueil@centresocial-oustal.fr \nPlaces limitées
URL:https://centresocial-oustal.fr/activite/accueil-de-loisirs-3-11-ans-43/
CATEGORIES:Enfance et Jeunesse,L'Oustal
ATTACH;FMTTYPE=image/jpeg:https://centresocial-oustal.fr/wp-content/uploads/2024/03/Affiche-ALSH-2021-2022.jpg
END:VEVENT
BEGIN:VEVENT
DTSTART;TZID=Europe/Paris:20250322T170000
DTEND;TZID=Europe/Paris:20250322T220000
DTSTAMP:20260420T094049
CREATED:20250305T125515Z
LAST-MODIFIED:20250305T125515Z
UID:10000809-1742662800-1742680800@centresocial-oustal.fr
SUMMARY:Salle des jeunes
DESCRIPTION:Salle des jeunes pour les collégiens de 12/17 ans à partir de la 6ème\n \nAprès le carnaval soirée pizza et Mario party \nPlaces limitées \nSur inscription à l’accueil de l’Oustal au 04 66 85 19 55 ou par mail : accueil@centresocial-oustal.fr \nprog SDJ Mars-Avril 2025 \nhttps://centresocial-oustal.fr/accueil-de-loisirs-ados-12-17-ans/
URL:https://centresocial-oustal.fr/activite/salle-des-jeunes-50/
CATEGORIES:Enfance et Jeunesse
ATTACH;FMTTYPE=image/png:https://centresocial-oustal.fr/wp-content/uploads/2024/04/Capture-decran-2024-04-10-154837.png
END:VEVENT
BEGIN:VEVENT
DTSTART;TZID=Europe/Paris:20250326T080000
DTEND;TZID=Europe/Paris:20250326T180000
DTSTAMP:20260420T094049
CREATED:20250402T142418Z
LAST-MODIFIED:20250402T143105Z
UID:10000820-1742976000-1743012000@centresocial-oustal.fr
SUMMARY:Accueil de loisirs 3/11 ans
DESCRIPTION:L’accueil de loisirs aura lieu à l’école primaire Robert Lavesque quartier les Fumades à Saint Jean du Gard. \nprogramme centre de loisirs mercredis mars Avril 2025 \ninformations sur l’accueil de loisirs \nModalités d’Inscriptions \nSur inscription à l’accueil de l’Oustal au 04 66 85 19 55 ou par mail : accueil@centresocial-oustal.fr \nPlaces limitées
URL:https://centresocial-oustal.fr/activite/accueil-de-loisirs-3-11-ans-44/
CATEGORIES:Enfance et Jeunesse,L'Oustal
ATTACH;FMTTYPE=image/jpeg:https://centresocial-oustal.fr/wp-content/uploads/2024/03/Affiche-ALSH-2021-2022.jpg
END:VEVENT
BEGIN:VEVENT
DTSTART;TZID=Europe/Paris:20250328T180000
DTEND;TZID=Europe/Paris:20250328T223000
DTSTAMP:20260420T094049
CREATED:20250305T125723Z
LAST-MODIFIED:20250305T125723Z
UID:10000810-1743184800-1743201000@centresocial-oustal.fr
SUMMARY:Salle des jeunes
DESCRIPTION:Salle des jeunes pour les collégiens de 12/17 ans à partir de la 6ème\n \n Soirée initiation JDR à la casa jeu Alès \nGratuit \nPlaces limitées \nSur inscription à l’accueil de l’Oustal au 04 66 85 19 55 ou par mail : accueil@centresocial-oustal.fr \nprog SDJ Mars-Avril 2025 \nhttps://centresocial-oustal.fr/accueil-de-loisirs-ados-12-17-ans/
URL:https://centresocial-oustal.fr/activite/salle-des-jeunes-51/
CATEGORIES:Enfance et Jeunesse
ATTACH;FMTTYPE=image/png:https://centresocial-oustal.fr/wp-content/uploads/2024/04/Capture-decran-2024-04-10-154837.png
END:VEVENT
BEGIN:VEVENT
DTSTART;TZID=Europe/Paris:20250402T080000
DTEND;TZID=Europe/Paris:20250402T180000
DTSTAMP:20260420T094049
CREATED:20250402T142450Z
LAST-MODIFIED:20250402T142647Z
UID:10000821-1743580800-1743616800@centresocial-oustal.fr
SUMMARY:Accueil de loisirs 3/11 ans
DESCRIPTION:L’accueil de loisirs aura lieu à l’école primaire Robert Lavesque quartier les Fumades à Saint Jean du Gard. \nprogramme centre de loisirs mercredis mars Avril 2025 \ninformations sur l’accueil de loisirs \nModalités d’Inscriptions \nSur inscription à l’accueil de l’Oustal au 04 66 85 19 55 ou par mail : accueil@centresocial-oustal.fr \nPlaces limitées
URL:https://centresocial-oustal.fr/activite/accueil-de-loisirs-3-11-ans-45/
CATEGORIES:Enfance et Jeunesse,L'Oustal
ATTACH;FMTTYPE=image/jpeg:https://centresocial-oustal.fr/wp-content/uploads/2024/03/Affiche-ALSH-2021-2022.jpg
END:VEVENT
BEGIN:VEVENT
DTSTART;TZID=Europe/Paris:20250405T100000
DTEND;TZID=Europe/Paris:20250405T170000
DTSTAMP:20260420T094049
CREATED:20250305T125905Z
LAST-MODIFIED:20250305T125905Z
UID:10000811-1743847200-1743872400@centresocial-oustal.fr
SUMMARY:Salle des jeunes
DESCRIPTION:Salle des jeunes pour les collégiens de 12/17 ans à partir de la 6ème\n \nSortie Paintball \nTarif 5€ \nPlaces limitées \nSur inscription à l’accueil de l’Oustal au 04 66 85 19 55 ou par mail : accueil@centresocial-oustal.fr \nprog SDJ Mars-Avril 2025 \nhttps://centresocial-oustal.fr/accueil-de-loisirs-ados-12-17-ans/
URL:https://centresocial-oustal.fr/activite/salle-des-jeunes-52/
CATEGORIES:Enfance et Jeunesse
ATTACH;FMTTYPE=image/png:https://centresocial-oustal.fr/wp-content/uploads/2024/04/Capture-decran-2024-04-10-154837.png
END:VEVENT
BEGIN:VEVENT
DTSTART;TZID=Europe/Paris:20250409T080000
DTEND;TZID=Europe/Paris:20250409T180000
DTSTAMP:20260420T094049
CREATED:20250402T142522Z
LAST-MODIFIED:20250402T142610Z
UID:10000822-1744185600-1744221600@centresocial-oustal.fr
SUMMARY:Accueil de loisirs 3/11 ans
DESCRIPTION:L’accueil de loisirs aura lieu à l’école primaire Robert Lavesque quartier les Fumades à Saint Jean du Gard. \nprogramme centre de loisirs mercredis mars Avril 2025 \ninformations sur l’accueil de loisirs \nModalités d’Inscriptions \nSur inscription à l’accueil de l’Oustal au 04 66 85 19 55 ou par mail : accueil@centresocial-oustal.fr \nPlaces limitées
URL:https://centresocial-oustal.fr/activite/accueil-de-loisirs-3-11-ans-46/
CATEGORIES:Enfance et Jeunesse,L'Oustal
ATTACH;FMTTYPE=image/jpeg:https://centresocial-oustal.fr/wp-content/uploads/2024/03/Affiche-ALSH-2021-2022.jpg
END:VEVENT
BEGIN:VEVENT
DTSTART;TZID=Europe/Paris:20250414T080000
DTEND;TZID=Europe/Paris:20250418T180000
DTSTAMP:20260420T094049
CREATED:20250402T135639Z
LAST-MODIFIED:20250402T135639Z
UID:10000814-1744617600-1744999200@centresocial-oustal.fr
SUMMARY:Accueil de loisirs 3/11 ans
DESCRIPTION:L’accueil de loisirs aura lieu à l’école primaire Robert Lavesque quartier les Fumades à Saint Jean du Gard. \nprogramme centre de loisirs vacances printemps \ninformations sur l’accueil de loisirs \nModalités d’Inscriptions \nSur inscription à l’accueil de l’Oustal au 04 66 85 19 55 ou par mail : accueil@centresocial-oustal.fr \nPlaces limitées
URL:https://centresocial-oustal.fr/activite/accueil-de-loisirs-3-11-ans-39/
CATEGORIES:Enfance et Jeunesse,L'Oustal
ATTACH;FMTTYPE=image/jpeg:https://centresocial-oustal.fr/wp-content/uploads/2024/03/Affiche-ALSH-2021-2022.jpg
END:VEVENT
END:VCALENDAR