BEGIN:VCALENDAR
VERSION:2.0
PRODID:-//L&#039;Oustal - ECPv6.15.20//NONSGML v1.0//EN
CALSCALE:GREGORIAN
METHOD:PUBLISH
X-WR-CALNAME:L&#039;Oustal
X-ORIGINAL-URL:https://centresocial-oustal.fr
X-WR-CALDESC:évènements pour L&#039;Oustal
REFRESH-INTERVAL;VALUE=DURATION:PT1H
X-Robots-Tag:noindex
X-PUBLISHED-TTL:PT1H
BEGIN:VTIMEZONE
TZID:Europe/Paris
BEGIN:DAYLIGHT
TZOFFSETFROM:+0100
TZOFFSETTO:+0200
TZNAME:CEST
DTSTART:20240331T010000
END:DAYLIGHT
BEGIN:STANDARD
TZOFFSETFROM:+0200
TZOFFSETTO:+0100
TZNAME:CET
DTSTART:20241027T010000
END:STANDARD
BEGIN:DAYLIGHT
TZOFFSETFROM:+0100
TZOFFSETTO:+0200
TZNAME:CEST
DTSTART:20250330T010000
END:DAYLIGHT
BEGIN:STANDARD
TZOFFSETFROM:+0200
TZOFFSETTO:+0100
TZNAME:CET
DTSTART:20251026T010000
END:STANDARD
BEGIN:DAYLIGHT
TZOFFSETFROM:+0100
TZOFFSETTO:+0200
TZNAME:CEST
DTSTART:20260329T010000
END:DAYLIGHT
BEGIN:STANDARD
TZOFFSETFROM:+0200
TZOFFSETTO:+0100
TZNAME:CET
DTSTART:20261025T010000
END:STANDARD
END:VTIMEZONE
BEGIN:VEVENT
DTSTART;TZID=Europe/Paris:20251021T100000
DTEND;TZID=Europe/Paris:20251021T180000
DTSTAMP:20260421T215609
CREATED:20251008T102032Z
LAST-MODIFIED:20251008T102032Z
UID:10000947-1761040800-1761069600@centresocial-oustal.fr
SUMMARY:Salle des jeunes
DESCRIPTION:Salle des jeunes pour les collégiens de 12/17 ans à partir de la 6ème\n \nmardi 21 octobre\nJournée Pyjama et brunch !! \nVenez comme vous voulez\, avec ceux que vous voulez (maquillage\, verni\, console\, PC\, film etc.. \nGratuit \nPlaces limitées \nSur inscription à l’accueil de l’Oustal au 04 66 85 19 55 ou par mail : accueil@centresocial-oustal.fr \nprogramme SDJ Vac Octobre 2025 \nFiche de renseignements 2025 2026 – Salle des jeunes \n\nAccueil de loisirs Ados 12-17 ans
URL:https://centresocial-oustal.fr/activite/salle-des-jeunes-68/
CATEGORIES:Enfance et Jeunesse,Famille,L'Oustal
ATTACH;FMTTYPE=image/jpeg:https://centresocial-oustal.fr/wp-content/uploads/2025/08/Salle-des-jeunes.jpg
END:VEVENT
END:VCALENDAR