BEGIN:VCALENDAR
VERSION:2.0
PRODID:-//L&#039;Oustal - ECPv6.15.20//NONSGML v1.0//EN
CALSCALE:GREGORIAN
METHOD:PUBLISH
X-WR-CALNAME:L&#039;Oustal
X-ORIGINAL-URL:https://centresocial-oustal.fr
X-WR-CALDESC:évènements pour L&#039;Oustal
REFRESH-INTERVAL;VALUE=DURATION:PT1H
X-Robots-Tag:noindex
X-PUBLISHED-TTL:PT1H
BEGIN:VTIMEZONE
TZID:Europe/Paris
BEGIN:DAYLIGHT
TZOFFSETFROM:+0100
TZOFFSETTO:+0200
TZNAME:CEST
DTSTART:20250330T010000
END:DAYLIGHT
BEGIN:STANDARD
TZOFFSETFROM:+0200
TZOFFSETTO:+0100
TZNAME:CET
DTSTART:20251026T010000
END:STANDARD
BEGIN:DAYLIGHT
TZOFFSETFROM:+0100
TZOFFSETTO:+0200
TZNAME:CEST
DTSTART:20260329T010000
END:DAYLIGHT
BEGIN:STANDARD
TZOFFSETFROM:+0200
TZOFFSETTO:+0100
TZNAME:CET
DTSTART:20261025T010000
END:STANDARD
BEGIN:DAYLIGHT
TZOFFSETFROM:+0100
TZOFFSETTO:+0200
TZNAME:CEST
DTSTART:20270328T010000
END:DAYLIGHT
BEGIN:STANDARD
TZOFFSETFROM:+0200
TZOFFSETTO:+0100
TZNAME:CET
DTSTART:20271031T010000
END:STANDARD
END:VTIMEZONE
BEGIN:VEVENT
DTSTART;TZID=Europe/Paris:20260109T170000
DTEND;TZID=Europe/Paris:20260109T220000
DTSTAMP:20260421T174533
CREATED:20260106T145742Z
LAST-MODIFIED:20260106T145859Z
UID:10001162-1767978000-1767996000@centresocial-oustal.fr
SUMMARY:Salle des jeunes
DESCRIPTION:🍕🎬 Soirée Pizza & Film – Salle des Jeunes\nLa Salle des Jeunes vous invite à une soirée pizza et film le📅 vendredi 9 janvier 2026 à partir de 17h jusque 22h \nUn moment convivial dédié aux adolescents de 12 à 17 ans\, pour se retrouver entre amis\, partager un repas et profiter d’un film dans une ambiance détendue et chaleureuse. \nℹ️ Infos pratiques\n\n\n📍 Salle des Jeunes – Espace Paulhan \n\n\n💶 Participation : 5 € \n\n\n✅ Aides CAF acceptées \n\n\nCette soirée fait partie des animations proposées par la Salle des Jeunes pour favoriser le partage\, les échanges et la convivialité entre ados. \nProgramme SDJ jan-Fév 2026 \n\nAccueil de loisirs Ados 12-17 ans
URL:https://centresocial-oustal.fr/activite/salle-des-jeunes-76/
CATEGORIES:Enfance et Jeunesse,Famille,L'Oustal
ATTACH;FMTTYPE=image/jpeg:https://centresocial-oustal.fr/wp-content/uploads/2025/08/Salle-des-jeunes.jpg
END:VEVENT
END:VCALENDAR