BEGIN:VCALENDAR
VERSION:2.0
PRODID:-//L&#039;Oustal - ECPv6.15.20//NONSGML v1.0//EN
CALSCALE:GREGORIAN
METHOD:PUBLISH
X-ORIGINAL-URL:https://centresocial-oustal.fr
X-WR-CALDESC:évènements pour L&#039;Oustal
REFRESH-INTERVAL;VALUE=DURATION:PT1H
X-Robots-Tag:noindex
X-PUBLISHED-TTL:PT1H
BEGIN:VTIMEZONE
TZID:Europe/Paris
BEGIN:DAYLIGHT
TZOFFSETFROM:+0100
TZOFFSETTO:+0200
TZNAME:CEST
DTSTART:20250330T010000
END:DAYLIGHT
BEGIN:STANDARD
TZOFFSETFROM:+0200
TZOFFSETTO:+0100
TZNAME:CET
DTSTART:20251026T010000
END:STANDARD
BEGIN:DAYLIGHT
TZOFFSETFROM:+0100
TZOFFSETTO:+0200
TZNAME:CEST
DTSTART:20260329T010000
END:DAYLIGHT
BEGIN:STANDARD
TZOFFSETFROM:+0200
TZOFFSETTO:+0100
TZNAME:CET
DTSTART:20261025T010000
END:STANDARD
BEGIN:DAYLIGHT
TZOFFSETFROM:+0100
TZOFFSETTO:+0200
TZNAME:CEST
DTSTART:20270328T010000
END:DAYLIGHT
BEGIN:STANDARD
TZOFFSETFROM:+0200
TZOFFSETTO:+0100
TZNAME:CET
DTSTART:20271031T010000
END:STANDARD
END:VTIMEZONE
BEGIN:VEVENT
DTSTART;TZID=Europe/Paris:20260113T090000
DTEND;TZID=Europe/Paris:20260117T170000
DTSTAMP:20260421T174745
CREATED:20260109T105053Z
LAST-MODIFIED:20260109T110415Z
UID:10001172-1768294800-1768669200@centresocial-oustal.fr
SUMMARY:Oustal Solidaire La BOUTIK
DESCRIPTION:La Boutik solidaire de l’Oustal\nLa Boutik solidaire de l’Oustal est un espace de solidarité et de partage\, ouvert à tous.Vous y trouverez des vêtements\, chaussures et accessoires à petits prix\, pour toute la famille\, dans une démarche à la fois sociale\, économique et écologique. \nGrande braderie exceptionnelle\n📅 Du 13 au 17 janvier💶 Tout à 1 € ! \nUne belle occasion de faire de bonnes affaires tout en soutenant une action locale et solidaire. \n📍 Lieu : 120 Grand’rue à Saint Jean du Gard🤝 Accueil chaleureux et convivial garanti ! \nN’hésitez pas à venir nombreux et à en parler autour de vous. \nhttps://centresocial-oustal.fr/boutik-solidaire/
URL:https://centresocial-oustal.fr/activite/oustal-solidaire-la-boutik/
CATEGORIES:Enfance et Jeunesse,Famille,France Service,L'Oustal,Séniors et vie locale
ATTACH;FMTTYPE=image/jpeg:https://centresocial-oustal.fr/wp-content/uploads/2026/01/Braderie-de-Janvier.jpg
END:VEVENT
BEGIN:VEVENT
DTSTART;TZID=Europe/Paris:20260116T170000
DTEND;TZID=Europe/Paris:20260116T220000
DTSTAMP:20260421T174745
CREATED:20260106T150547Z
LAST-MODIFIED:20260106T150547Z
UID:10001163-1768582800-1768600800@centresocial-oustal.fr
SUMMARY:Salle des jeunes
DESCRIPTION:🎲 Soirée Jeux de Société – Salle des Jeunes\nLa Salle des Jeunes vous invite à une soirée jeux de société le📅 vendredi 16 janvier 2026. \nUne soirée conviviale destinée aux adolescents de 12 à 17 ans\, pour se retrouver entre amis et partager un moment ludique autour de jeux de société\, de stratégie\, de cartes et de logique. \nℹ️ Infos pratiques\n\n\n📍 Salle des Jeunes – Espace Paulhan \n\n\n💶 Participation gratuite \n\n\n🎉 Accès libre \n\n\nCette animation s’inscrit dans les activités de la Salle des Jeunes\, favorisant le jeu\, l’échange et la convivialité entre adolescents. \nProgramme SDJ jan-Fév 2026 \n\nAccueil de loisirs Ados 12-17 ans
URL:https://centresocial-oustal.fr/activite/salle-des-jeunes-77/
CATEGORIES:Enfance et Jeunesse,Famille,L'Oustal
ATTACH;FMTTYPE=image/jpeg:https://centresocial-oustal.fr/wp-content/uploads/2025/08/Salle-des-jeunes.jpg
END:VEVENT
END:VCALENDAR