BEGIN:VCALENDAR
VERSION:2.0
PRODID:-//L&#039;Oustal - ECPv6.15.20//NONSGML v1.0//EN
CALSCALE:GREGORIAN
METHOD:PUBLISH
X-ORIGINAL-URL:https://centresocial-oustal.fr
X-WR-CALDESC:évènements pour L&#039;Oustal
REFRESH-INTERVAL;VALUE=DURATION:PT1H
X-Robots-Tag:noindex
X-PUBLISHED-TTL:PT1H
BEGIN:VTIMEZONE
TZID:Europe/Paris
BEGIN:DAYLIGHT
TZOFFSETFROM:+0100
TZOFFSETTO:+0200
TZNAME:CEST
DTSTART:20250330T010000
END:DAYLIGHT
BEGIN:STANDARD
TZOFFSETFROM:+0200
TZOFFSETTO:+0100
TZNAME:CET
DTSTART:20251026T010000
END:STANDARD
BEGIN:DAYLIGHT
TZOFFSETFROM:+0100
TZOFFSETTO:+0200
TZNAME:CEST
DTSTART:20260329T010000
END:DAYLIGHT
BEGIN:STANDARD
TZOFFSETFROM:+0200
TZOFFSETTO:+0100
TZNAME:CET
DTSTART:20261025T010000
END:STANDARD
BEGIN:DAYLIGHT
TZOFFSETFROM:+0100
TZOFFSETTO:+0200
TZNAME:CEST
DTSTART:20270328T010000
END:DAYLIGHT
BEGIN:STANDARD
TZOFFSETFROM:+0200
TZOFFSETTO:+0100
TZNAME:CET
DTSTART:20271031T010000
END:STANDARD
END:VTIMEZONE
BEGIN:VEVENT
DTSTART;TZID=Europe/Paris:20260131T100000
DTEND;TZID=Europe/Paris:20260131T170000
DTSTAMP:20260421T162052
CREATED:20260116T140417Z
LAST-MODIFIED:20260116T140417Z
UID:10001175-1769853600-1769878800@centresocial-oustal.fr
SUMMARY:Salle des jeunes
DESCRIPTION:🧳 Journée de Préparation du Séjour Inter Centre – Salle des Jeunes\nLa Salle des Jeunes organise une journée de préparation du séjour inter centre des vacances de printemps\, le \n📅 samedi 31 janvier 2026\, de 10h à 17h. \nCette journée permettra aux adolescents de 12 à 17 ans de participer activement à l’organisation du séjour : échanges\, préparation des activités\, cohésion de groupe et temps conviviaux à la Salle des Jeunes. \nℹ️ Infos pratiques\n\n\n📍 Salle des Jeunes – Espace Paulhan \n\n\n🕙 10h à 17h \n\n\n💶 Gratuit \n\n\n👥 Public : adolescents 12–17 ans \n\n✍️ Inscription obligatoire\n\nCette animation s’inscrit dans les actions éducatives de la Salle des Jeunes\, favorisant la participation\, l’autonomie et la construction collective de projets. \nProgramme SDJ jan-Fév 2026 \n\nAccueil de loisirs Ados 12-17 ans
URL:https://centresocial-oustal.fr/activite/salle-des-jeunes-79/
CATEGORIES:Enfance et Jeunesse,Famille,L'Oustal
ATTACH;FMTTYPE=image/jpeg:https://centresocial-oustal.fr/wp-content/uploads/2025/08/Salle-des-jeunes.jpg
END:VEVENT
END:VCALENDAR