BEGIN:VCALENDAR
VERSION:2.0
PRODID:-//L&#039;Oustal - ECPv6.15.20//NONSGML v1.0//EN
CALSCALE:GREGORIAN
METHOD:PUBLISH
X-WR-CALNAME:L&#039;Oustal
X-ORIGINAL-URL:https://centresocial-oustal.fr
X-WR-CALDESC:évènements pour L&#039;Oustal
REFRESH-INTERVAL;VALUE=DURATION:PT1H
X-Robots-Tag:noindex
X-PUBLISHED-TTL:PT1H
BEGIN:VTIMEZONE
TZID:Europe/Paris
BEGIN:DAYLIGHT
TZOFFSETFROM:+0100
TZOFFSETTO:+0200
TZNAME:CEST
DTSTART:20250330T010000
END:DAYLIGHT
BEGIN:STANDARD
TZOFFSETFROM:+0200
TZOFFSETTO:+0100
TZNAME:CET
DTSTART:20251026T010000
END:STANDARD
BEGIN:DAYLIGHT
TZOFFSETFROM:+0100
TZOFFSETTO:+0200
TZNAME:CEST
DTSTART:20260329T010000
END:DAYLIGHT
BEGIN:STANDARD
TZOFFSETFROM:+0200
TZOFFSETTO:+0100
TZNAME:CET
DTSTART:20261025T010000
END:STANDARD
BEGIN:DAYLIGHT
TZOFFSETFROM:+0100
TZOFFSETTO:+0200
TZNAME:CEST
DTSTART:20270328T010000
END:DAYLIGHT
BEGIN:STANDARD
TZOFFSETFROM:+0200
TZOFFSETTO:+0100
TZNAME:CET
DTSTART:20271031T010000
END:STANDARD
END:VTIMEZONE
BEGIN:VEVENT
DTSTART;TZID=Europe/Paris:20260207T100000
DTEND;TZID=Europe/Paris:20260207T110000
DTSTAMP:20260421T161752
CREATED:20260204T141459Z
LAST-MODIFIED:20260204T141459Z
UID:10001221-1770458400-1770462000@centresocial-oustal.fr
SUMMARY:Ateliers Enfants-Parents
DESCRIPTION:Ateliers Parents–Enfants (0–7 ans)\nLe secteur Famille de l’Oustal vous invite à partager un moment tout doux\, convivial et chaleureux lors du P’tit déj en famille. \n📅 Samedi 7 février 2026📍 Au P’tit Oustal\n☕ Au programme \n\n\ncafé\, thé et petites douceurs \n\n\néchanges\, rires et moments de partage \n\n\nune ambiance détendue\, comme à la maison \n\n\n🎯 ObjectifPrendre le temps de se retrouver en famille\, discuter\, créer du lien et bien commencer la journée ensemble\, dans un cadre accueillant et bienveillant. \n🧦 À ne pas oublier \n\n\nvotre bol \n\n\nvos pantoufles (oui\, oui 😄) \n\n\nUn temps simple et chaleureux\, ouvert aux parents et aux enfants\, pour se poser et profiter ensemble. \n👉 On vous attend avec le sourire ! \nlivret atelier parents enfants 2025-26 \n💰 Tarif : gratuit \nVenez nombreux ! \nAteliers Hebdomadaires organisés par des professionnels renseignements \nL’accès est libre ou sur inscription à : accueil@centresocial-oustal.fr ou bien par téléphone au 04 66 85 19 55 \n 
URL:https://centresocial-oustal.fr/activite/ateliers-enfants-parents-22/
CATEGORIES:Enfance et Jeunesse,Famille,L'Oustal
END:VEVENT
END:VCALENDAR