BEGIN:VCALENDAR
VERSION:2.0
PRODID:-//L&#039;Oustal - ECPv6.15.20//NONSGML v1.0//EN
CALSCALE:GREGORIAN
METHOD:PUBLISH
X-ORIGINAL-URL:https://centresocial-oustal.fr
X-WR-CALDESC:évènements pour L&#039;Oustal
REFRESH-INTERVAL;VALUE=DURATION:PT1H
X-Robots-Tag:noindex
X-PUBLISHED-TTL:PT1H
BEGIN:VTIMEZONE
TZID:Europe/Paris
BEGIN:DAYLIGHT
TZOFFSETFROM:+0100
TZOFFSETTO:+0200
TZNAME:CEST
DTSTART:20250330T010000
END:DAYLIGHT
BEGIN:STANDARD
TZOFFSETFROM:+0200
TZOFFSETTO:+0100
TZNAME:CET
DTSTART:20251026T010000
END:STANDARD
BEGIN:DAYLIGHT
TZOFFSETFROM:+0100
TZOFFSETTO:+0200
TZNAME:CEST
DTSTART:20260329T010000
END:DAYLIGHT
BEGIN:STANDARD
TZOFFSETFROM:+0200
TZOFFSETTO:+0100
TZNAME:CET
DTSTART:20261025T010000
END:STANDARD
BEGIN:DAYLIGHT
TZOFFSETFROM:+0100
TZOFFSETTO:+0200
TZNAME:CEST
DTSTART:20270328T010000
END:DAYLIGHT
BEGIN:STANDARD
TZOFFSETFROM:+0200
TZOFFSETTO:+0100
TZNAME:CET
DTSTART:20271031T010000
END:STANDARD
END:VTIMEZONE
BEGIN:VEVENT
DTSTART;TZID=Europe/Paris:20260210T083000
DTEND;TZID=Europe/Paris:20260210T173000
DTSTAMP:20260421T162052
CREATED:20260203T142551Z
LAST-MODIFIED:20260204T080712Z
UID:10001217-1770712200-1770744600@centresocial-oustal.fr
SUMMARY:Sorties Adultes
DESCRIPTION:L’Oustal vous propose de nouvelles sorties adultes en 2026\, pour bouger\, découvrir et partager de bons moments ensemble. \n🗓 Prochaine sortie \nMardi 10 février 2026\n👉 Visite de la grotte Chauvet \n🕣 Horaires : départ à 8h30 et retour vers 17h30\n📍 Rendez-vous : devant l’Oustal \n💰 Tarifs\n8 € la sortie + 2 € de supplément\n📩 Inscriptions  à l’accueil de l’Oustal au  04 66 85 19 55 ou par mail à : accueil@centresocial-oustal.fr\nPlaces limitées \nPrévoir un pique-nique et vêtements adéquats selon les sorties. \n  \nSorties adultes
URL:https://centresocial-oustal.fr/activite/sorties-adultes-19/
CATEGORIES:Famille,L'Oustal,Séniors et vie locale
ATTACH;FMTTYPE=image/jpeg:https://centresocial-oustal.fr/wp-content/uploads/2026/02/Sorties-adultes-2-2026-1.jpg
END:VEVENT
BEGIN:VEVENT
DTSTART;TZID=Europe/Paris:20260210T090000
DTEND;TZID=Europe/Paris:20260210T130000
DTSTAMP:20260421T162052
CREATED:20251211T105930Z
LAST-MODIFIED:20251211T105930Z
UID:10001063-1770714000-1770728400@centresocial-oustal.fr
SUMMARY:Atelier couture
DESCRIPTION:🪡 Atelier Couture – Créativité et Partage\nL’atelier couture du Centre Social Oustal est un espace de création\, d’échange et d’apprentissage ouvert à tous.Que vous soyez débutant(e) ou passionné(e)\, venez découvrir ou perfectionner vos techniques de couture dans une ambiance conviviale. \n🗓 Quand et où ? \n\n\nAteliers réguliers encadrés par Isabelle Blineau \n\n\nSalle d’activités – Au P’tit Oustal\, Place Augustine Soubeiran à Saint-Jean-du-Gard  tous les mardi 9h à 13h \n\n\nAdhésion obligatoire \nTarif 45€ l’année \nInscriptions à l’accueil de l’Oustal Tel : 04 66 85 19 55 \nCentre Social et Socioculturel l’Oustal \n\nDocs association \n\n\nLes ateliers par des habitants bénévoles
URL:https://centresocial-oustal.fr/activite/atelier-couture-62/
CATEGORIES:Famille,L'Oustal,Séniors et vie locale
ATTACH;FMTTYPE=image/jpeg:https://centresocial-oustal.fr/wp-content/uploads/2025/09/Atelier-couture-2025-2026.jpg
END:VEVENT
BEGIN:VEVENT
DTSTART;TZID=Europe/Paris:20260210T153000
DTEND;TZID=Europe/Paris:20260210T180000
DTSTAMP:20260421T162052
CREATED:20251210T144938Z
LAST-MODIFIED:20251210T144938Z
UID:10001038-1770737400-1770746400@centresocial-oustal.fr
SUMMARY:LAEP au P'tit Oustal
DESCRIPTION:  \nLieu d’Accueil Parents-Enfants (LAEP)\nLe Lieu d’Accueil Parents-Enfants\, ou LAEP\, est un espace convivial dédié aux familles et à leurs enfants de 0 à 6 ans. C’est un lieu de rencontres\, d’échanges et de jeux pour petits et grands. \nAccès libre et gratuit : vous venez quand vous voulez et restez le temps que vous souhaitez. \nUn accueil bienveillant\nune accueillante est présente pour vous écouter et vous accompagner dans un cadre respectueux et bienveillant. \nLe LAEP
URL:https://centresocial-oustal.fr/activite/laep-au-ptit-oustal-14/
CATEGORIES:Enfance et Jeunesse,Famille,L'Oustal
ATTACH;FMTTYPE=image/png:https://centresocial-oustal.fr/wp-content/uploads/2025/12/Fly-LAEP-du-Ptit-Oustal-.png
END:VEVENT
END:VCALENDAR