BEGIN:VCALENDAR
VERSION:2.0
PRODID:-//L&#039;Oustal - ECPv6.15.20//NONSGML v1.0//EN
CALSCALE:GREGORIAN
METHOD:PUBLISH
X-ORIGINAL-URL:https://centresocial-oustal.fr
X-WR-CALDESC:évènements pour L&#039;Oustal
REFRESH-INTERVAL;VALUE=DURATION:PT1H
X-Robots-Tag:noindex
X-PUBLISHED-TTL:PT1H
BEGIN:VTIMEZONE
TZID:Europe/Paris
BEGIN:DAYLIGHT
TZOFFSETFROM:+0100
TZOFFSETTO:+0200
TZNAME:CEST
DTSTART:20250330T010000
END:DAYLIGHT
BEGIN:STANDARD
TZOFFSETFROM:+0200
TZOFFSETTO:+0100
TZNAME:CET
DTSTART:20251026T010000
END:STANDARD
BEGIN:DAYLIGHT
TZOFFSETFROM:+0100
TZOFFSETTO:+0200
TZNAME:CEST
DTSTART:20260329T010000
END:DAYLIGHT
BEGIN:STANDARD
TZOFFSETFROM:+0200
TZOFFSETTO:+0100
TZNAME:CET
DTSTART:20261025T010000
END:STANDARD
BEGIN:DAYLIGHT
TZOFFSETFROM:+0100
TZOFFSETTO:+0200
TZNAME:CEST
DTSTART:20270328T010000
END:DAYLIGHT
BEGIN:STANDARD
TZOFFSETFROM:+0200
TZOFFSETTO:+0100
TZNAME:CET
DTSTART:20271031T010000
END:STANDARD
END:VTIMEZONE
BEGIN:VEVENT
DTSTART;TZID=Europe/Paris:20260218T163000
DTEND;TZID=Europe/Paris:20260218T183000
DTSTAMP:20260421T162049
CREATED:20260205T135655Z
LAST-MODIFIED:20260206T130210Z
UID:10001281-1771432200-1771439400@centresocial-oustal.fr
SUMMARY:Permanence Parentalité Numérique
DESCRIPTION:Permanences Parentalité Numérique\nLe Centre social l’Oustal\, en partenariat avec la Maison de l’Inclusion Numérique\, propose des permanences dédiées aux parents et enfants pour apprendre à mieux utiliser le numérique ensemble. \nCes temps d’échange conviviaux permettent de parler des usages du quotidien (réseaux sociaux\, jeux\, écrans)\, de prévenir les risques liés à Internet et de renforcer le dialogue parents–enfants\, avec l’accompagnement d’un conseiller numérique. \n📍 Centre social l’Oustal – Salle des jeunes (Espace Paulhan\, niveau -1)📅 1er et 3e mercredis du mois🕓 16h30 – 18h💰 Gratuit – ouvert aux familles de la Vallée Borgne \n📞 Inscriptions : 04 66 85 19 55 ou par mail : accueil@centresocial-oustal.fr \npermanences parentalité numérique 
URL:https://centresocial-oustal.fr/activite/permanence-parentalite-numerique-2/
CATEGORIES:Enfance et Jeunesse,Famille
ATTACH;FMTTYPE=image/jpeg:https://centresocial-oustal.fr/wp-content/uploads/2026/01/6.jpg
END:VEVENT
BEGIN:VEVENT
DTSTART;TZID=Europe/Paris:20260218T200000
DTEND;TZID=Europe/Paris:20260218T220000
DTSTAMP:20260421T162049
CREATED:20251216T150608Z
LAST-MODIFIED:20251216T150608Z
UID:10001089-1771444800-1771452000@centresocial-oustal.fr
SUMMARY:Atelier Volley-ball
DESCRIPTION:🏐 Le Volley-ball : un sport d’équipe complet\nLe volley-ball est un sport collectif qui oppose deux équipes de six joueurs séparées par un filet.L’objectif : faire passer le ballon au-dessus du filet et le faire toucher le sol du camp adverse\, tout en empêchant l’équipe opposée d’en faire autant.\nPour les adultes\, enfants et ados accompagnés. Sport collectif tous les lundis à 21h et les mercredis et jeudis à partir de 20h\nà la salle du gymnase à Saint Jean du Gard \nAdhesion obligatoire \nInscription à l’accueil de l’Oustal tel : 04 66 85 19 55\n \nCentre Social et Socioculturel l’Oustal \n\nLes ateliers par des habitants bénévoles \n\n\nDocs association
URL:https://centresocial-oustal.fr/activite/atelier-volley-ball-112/
CATEGORIES:Famille,L'Oustal,Séniors et vie locale
ATTACH;FMTTYPE=image/jpeg:https://centresocial-oustal.fr/wp-content/uploads/2025/09/Volley-2025-2026-e1758473378172.jpg
END:VEVENT
BEGIN:VEVENT
DTSTART;TZID=Europe/Paris:20260218T203000
DTEND;TZID=Europe/Paris:20260218T223000
DTSTAMP:20260421T162050
CREATED:20260120T144128Z
LAST-MODIFIED:20260120T144128Z
UID:10001176-1771446600-1771453800@centresocial-oustal.fr
SUMMARY:Rendez-vous culturels de l'Oustal
DESCRIPTION:🎭 Sortie culturelle – Carmen (danse)\nDans le cadre des Rendez-vous culturels\, l’Oustal vous propose d’assister au spectacle Carmen\, une création chorégraphique à découvrir : \n📅 Mercredi 18 février 2026\n🕣 Début du spectacle : 20h30\n🚗 CovoiturageUn covoiturage est organisé avec un départ devant l’Oustal à 19h30. \n💰 Tarifs• 12 € pour le spectacle• 3 € pour le covoiturage (règlement séparé) \nPour toute question ou information complémentaire\, l’équipe de l’Oustal reste à votre disposition \nNombre de place limité \nSur inscription à l’accueil de l’Oustal au 04 66 85 19 55 ou à l’accueil@centresocial-oustal.fr  \n 
URL:https://centresocial-oustal.fr/activite/rendez-vous-culturels-de-loustal-19/
CATEGORIES:Famille,L'Oustal,Séniors et vie locale
ATTACH;FMTTYPE=image/jpeg:https://centresocial-oustal.fr/wp-content/uploads/2026/01/Carmen-DSC_0477_CreditDavidBonnet_1-scaled-1.jpg
END:VEVENT
END:VCALENDAR