BEGIN:VCALENDAR
VERSION:2.0
PRODID:-//L&#039;Oustal - ECPv6.15.20//NONSGML v1.0//EN
CALSCALE:GREGORIAN
METHOD:PUBLISH
X-WR-CALNAME:L&#039;Oustal
X-ORIGINAL-URL:https://centresocial-oustal.fr
X-WR-CALDESC:évènements pour L&#039;Oustal
REFRESH-INTERVAL;VALUE=DURATION:PT1H
X-Robots-Tag:noindex
X-PUBLISHED-TTL:PT1H
BEGIN:VTIMEZONE
TZID:Europe/Paris
BEGIN:DAYLIGHT
TZOFFSETFROM:+0100
TZOFFSETTO:+0200
TZNAME:CEST
DTSTART:20250330T010000
END:DAYLIGHT
BEGIN:STANDARD
TZOFFSETFROM:+0200
TZOFFSETTO:+0100
TZNAME:CET
DTSTART:20251026T010000
END:STANDARD
BEGIN:DAYLIGHT
TZOFFSETFROM:+0100
TZOFFSETTO:+0200
TZNAME:CEST
DTSTART:20260329T010000
END:DAYLIGHT
BEGIN:STANDARD
TZOFFSETFROM:+0200
TZOFFSETTO:+0100
TZNAME:CET
DTSTART:20261025T010000
END:STANDARD
BEGIN:DAYLIGHT
TZOFFSETFROM:+0100
TZOFFSETTO:+0200
TZNAME:CEST
DTSTART:20270328T010000
END:DAYLIGHT
BEGIN:STANDARD
TZOFFSETFROM:+0200
TZOFFSETTO:+0100
TZNAME:CET
DTSTART:20271031T010000
END:STANDARD
END:VTIMEZONE
BEGIN:VEVENT
DTSTART;TZID=Europe/Paris:20260223T080000
DTEND;TZID=Europe/Paris:20260306T180000
DTSTAMP:20260421T145357
CREATED:20260203T142957Z
LAST-MODIFIED:20260203T142957Z
UID:10001218-1771833600-1772820000@centresocial-oustal.fr
SUMMARY:Accueil de loisirs 3/11 ans
DESCRIPTION:📍 Centre de Loisirs – 3-11 ansAu P’tit Oustal\, les enfants de 3 à 11 ans découvrent chaque semaine des activités créatives\, sportives et culturelles pendant les mercredis et vacances scolaires.\nTarifs adaptés\, bons CAF acceptés. \nprogramme vac hiver 2026 \n\nAccueil de loisirs 3-11 ans \n\n🕑 Horaires d’inscription\nLes inscriptions se font à l’accueil de l’Oustal : \n\n\nDu lundi au vendredi \n\n\nDe 8h30 à 12h30 et de 13h30 à 17h30 \n\n\n👉 Les inscriptions : 📞 04 66 85 19 55 – ✉️ accueil@centresocial-oustal.fr \n\nAccueil & inscriptions \n\nMerci de votre confiance et à très bientôt au centre ! \nPlaces limitées \n 
URL:https://centresocial-oustal.fr/activite/accueil-de-loisirs-3-11-ans-78/
CATEGORIES:Enfance et Jeunesse,Famille,L'Oustal
ATTACH;FMTTYPE=image/jpeg:https://centresocial-oustal.fr/wp-content/uploads/2025/08/Accueil-de-loisirs-311ans1.jpg
ORGANIZER;CN="Le p'tit oustal":MAILTO:accueil@centresocial-oustal.fr
END:VEVENT
BEGIN:VEVENT
DTSTART;TZID=Europe/Paris:20260223T100000
DTEND;TZID=Europe/Paris:20260223T180000
DTSTAMP:20260421T145357
CREATED:20260203T151631Z
LAST-MODIFIED:20260203T151829Z
UID:10001219-1771840800-1771869600@centresocial-oustal.fr
SUMMARY:Salle des jeunes
DESCRIPTION:🎲 Animation Jeux de Mensonge et de Trahison\nLa Salle des Jeunes vous donne rendez-vous lundi 23 février pour une animation autour de jeux de mensonge\, bluff et stratégie. \nAu programme : des jeux dans l’esprit de Loup-Garou\, Undercover et autres jeux de rôle et de déduction\, où esprit d’équipe\, réflexion et sens de l’observation seront indispensables.\nUne activité ludique et conviviale pour permettre aux adolescents de se retrouver et de partager un moment dynamique et amusant. \nℹ️ Informations pratiques\n📍 Lieu : Salle des Jeunes – Espace Paulhan\n👥 Public : Adolescents de 12 à 17 ans\n💶 Participation : Gratuite\n🎉 Accès : Libre \n👉 Venez nombreux pour relever le défi… saurez-vous démasquer les imposteurs ?\n\nCette animation s’inscrit dans les actions éducatives de la Salle des Jeunes\, favorisant la participation\, l’autonomie et la construction collective de projets. \nprogramme SDJ Vac Fév \n\nAccueil de loisirs Ados 12-17 ans
URL:https://centresocial-oustal.fr/activite/salle-des-jeunes-80/
CATEGORIES:Enfance et Jeunesse,Famille,L'Oustal
ATTACH;FMTTYPE=image/jpeg:https://centresocial-oustal.fr/wp-content/uploads/2025/08/Salle-des-jeunes.jpg
END:VEVENT
END:VCALENDAR