BEGIN:VCALENDAR
VERSION:2.0
PRODID:-//L&#039;Oustal - ECPv6.15.20//NONSGML v1.0//EN
CALSCALE:GREGORIAN
METHOD:PUBLISH
X-ORIGINAL-URL:https://centresocial-oustal.fr
X-WR-CALDESC:évènements pour L&#039;Oustal
REFRESH-INTERVAL;VALUE=DURATION:PT1H
X-Robots-Tag:noindex
X-PUBLISHED-TTL:PT1H
BEGIN:VTIMEZONE
TZID:Europe/Paris
BEGIN:DAYLIGHT
TZOFFSETFROM:+0100
TZOFFSETTO:+0200
TZNAME:CEST
DTSTART:20250330T010000
END:DAYLIGHT
BEGIN:STANDARD
TZOFFSETFROM:+0200
TZOFFSETTO:+0100
TZNAME:CET
DTSTART:20251026T010000
END:STANDARD
BEGIN:DAYLIGHT
TZOFFSETFROM:+0100
TZOFFSETTO:+0200
TZNAME:CEST
DTSTART:20260329T010000
END:DAYLIGHT
BEGIN:STANDARD
TZOFFSETFROM:+0200
TZOFFSETTO:+0100
TZNAME:CET
DTSTART:20261025T010000
END:STANDARD
BEGIN:DAYLIGHT
TZOFFSETFROM:+0100
TZOFFSETTO:+0200
TZNAME:CEST
DTSTART:20270328T010000
END:DAYLIGHT
BEGIN:STANDARD
TZOFFSETFROM:+0200
TZOFFSETTO:+0100
TZNAME:CET
DTSTART:20271031T010000
END:STANDARD
END:VTIMEZONE
BEGIN:VEVENT
DTSTART;TZID=Europe/Paris:20260320T170000
DTEND;TZID=Europe/Paris:20260320T223000
DTSTAMP:20260421T162119
CREATED:20260225T151717Z
LAST-MODIFIED:20260312T134012Z
UID:10001301-1774026000-1774045800@centresocial-oustal.fr
SUMMARY:Salle des jeunes
DESCRIPTION:🍔🎬 Soirée Burger & Ciné – Salle des Jeunes\nLa Salle des Jeunes de l’Oustal organise une soirée Burger & Ciné à destination des adolescents\, pour partager un moment convivial autour d’un repas et d’une séance de cinéma\, dans une ambiance détendue et encadrée. \n📅 Vendredi 20 mars 2026🕔 Horaires : de 17h à 22h30📍 Lieu : Salle des Jeunes \n🎬 Informations pratiques\n\n\n👥 Public : adolescents \n\n\n💶 Participation : 5 €\, à régler sur place \n\n\n⚠️ Inscription obligatoire \n\n\n👉 Les inscriptions se font à l’accueil du Centre Social l’Oustal. \nUne belle occasion de se retrouver\, de partager un repas et de profiter d’un moment cinéma entre jeunes 🎉 \nProgramme SDJ maravr 2026 (1) \n\nAccueil de loisirs Ados 12-17 ans
URL:https://centresocial-oustal.fr/activite/salle-des-jeunes-86/
CATEGORIES:Enfance et Jeunesse,Famille,L'Oustal
ATTACH;FMTTYPE=image/jpeg:https://centresocial-oustal.fr/wp-content/uploads/2025/08/Salle-des-jeunes.jpg
END:VEVENT
END:VCALENDAR