BEGIN:VCALENDAR
VERSION:2.0
PRODID:-//L&#039;Oustal - ECPv6.15.20//NONSGML v1.0//EN
CALSCALE:GREGORIAN
METHOD:PUBLISH
X-ORIGINAL-URL:https://centresocial-oustal.fr
X-WR-CALDESC:évènements pour L&#039;Oustal
REFRESH-INTERVAL;VALUE=DURATION:PT1H
X-Robots-Tag:noindex
X-PUBLISHED-TTL:PT1H
BEGIN:VTIMEZONE
TZID:Europe/Paris
BEGIN:DAYLIGHT
TZOFFSETFROM:+0100
TZOFFSETTO:+0200
TZNAME:CEST
DTSTART:20250330T010000
END:DAYLIGHT
BEGIN:STANDARD
TZOFFSETFROM:+0200
TZOFFSETTO:+0100
TZNAME:CET
DTSTART:20251026T010000
END:STANDARD
BEGIN:DAYLIGHT
TZOFFSETFROM:+0100
TZOFFSETTO:+0200
TZNAME:CEST
DTSTART:20260329T010000
END:DAYLIGHT
BEGIN:STANDARD
TZOFFSETFROM:+0200
TZOFFSETTO:+0100
TZNAME:CET
DTSTART:20261025T010000
END:STANDARD
BEGIN:DAYLIGHT
TZOFFSETFROM:+0100
TZOFFSETTO:+0200
TZNAME:CEST
DTSTART:20270328T010000
END:DAYLIGHT
BEGIN:STANDARD
TZOFFSETFROM:+0200
TZOFFSETTO:+0100
TZNAME:CET
DTSTART:20271031T010000
END:STANDARD
END:VTIMEZONE
BEGIN:VEVENT
DTSTART;TZID=Europe/Paris:20260321T100000
DTEND;TZID=Europe/Paris:20260321T110000
DTSTAMP:20260421T145608
CREATED:20260205T104539Z
LAST-MODIFIED:20260205T104539Z
UID:10001277-1774087200-1774090800@centresocial-oustal.fr
SUMMARY:Ateliers Enfants-Parents
DESCRIPTION:Ateliers Parents–Enfants (0–7 ans)\nParents–Enfants : parler du numérique… sans écrans\nEt si l’on prenait le temps de discuter du numérique autrement ?Cet atelier Parents–Enfants propose un espace de dialogue original\, sans écrans\, pour échanger librement autour des usages numériques. \nLe temps de l’atelier\, parents et enfants sont répartis en deux groupes afin de pouvoir s’exprimer en toute liberté : \n\n\nles enfants partagent leurs envies\, leurs questions et leur compréhension des règles ; \n\n\nles parents échangent sur leurs inquiétudes\, leurs besoins de protection et leurs interrogations face au numérique. \n\n\nL’objectif est de favoriser la compréhension mutuelle et de rappeler que les règles ne sont pas des punitions\, mais des moyens de protection.Un moment d’écoute et de dialogue pour aborder le numérique comme un sujet éducatif à part entière\, dans un cadre neutre et bienveillant.\nhttps://centresocial-oustal.fr/atelier-parents-enfants-parler-du-numerique/ \n📅 Samedi 21 mars🕙 De 10h à 11h👨‍👩‍👧‍👦 Atelier Parents–Enfants \nLes ateliers se déroulent tous les samedis matin\, de octobre à mai\, hors vacances scolaires.Le nombre de places étant limité\, l’inscription est obligatoire. \nUn beau moment de complicité et de découverte à partager avec votre enfant ! \nlivret atelier parents enfants 2025-26 \nAtelier numérique\nsamedi 24 janvier 2026 de 10h à 11h  \n💰 Tarif : 5 € par famille \nVenez nombreux ! \nAteliers Hebdomadaires organisés par des professionnels renseignements \nL’accès est libre ou sur inscription à : accueil@centresocial-oustal.fr ou bien par téléphone au 04 66 85 19 55 \n 
URL:https://centresocial-oustal.fr/activite/ateliers-enfants-parents-27/
CATEGORIES:Enfance et Jeunesse,Famille,L'Oustal
END:VEVENT
END:VCALENDAR