BEGIN:VCALENDAR
VERSION:2.0
PRODID:-//L&#039;Oustal - ECPv6.15.20//NONSGML v1.0//EN
CALSCALE:GREGORIAN
METHOD:PUBLISH
X-WR-CALNAME:L&#039;Oustal
X-ORIGINAL-URL:https://centresocial-oustal.fr
X-WR-CALDESC:évènements pour L&#039;Oustal
REFRESH-INTERVAL;VALUE=DURATION:PT1H
X-Robots-Tag:noindex
X-PUBLISHED-TTL:PT1H
BEGIN:VTIMEZONE
TZID:Europe/Paris
BEGIN:DAYLIGHT
TZOFFSETFROM:+0100
TZOFFSETTO:+0200
TZNAME:CEST
DTSTART:20250330T010000
END:DAYLIGHT
BEGIN:STANDARD
TZOFFSETFROM:+0200
TZOFFSETTO:+0100
TZNAME:CET
DTSTART:20251026T010000
END:STANDARD
BEGIN:DAYLIGHT
TZOFFSETFROM:+0100
TZOFFSETTO:+0200
TZNAME:CEST
DTSTART:20260329T010000
END:DAYLIGHT
BEGIN:STANDARD
TZOFFSETFROM:+0200
TZOFFSETTO:+0100
TZNAME:CET
DTSTART:20261025T010000
END:STANDARD
BEGIN:DAYLIGHT
TZOFFSETFROM:+0100
TZOFFSETTO:+0200
TZNAME:CEST
DTSTART:20270328T010000
END:DAYLIGHT
BEGIN:STANDARD
TZOFFSETFROM:+0200
TZOFFSETTO:+0100
TZNAME:CET
DTSTART:20271031T010000
END:STANDARD
END:VTIMEZONE
BEGIN:VEVENT
DTSTART;TZID=Europe/Paris:20260506T200000
DTEND;TZID=Europe/Paris:20260506T220000
DTSTAMP:20260421T145357
CREATED:20251218T091336Z
LAST-MODIFIED:20251218T091336Z
UID:10001095-1778097600-1778104800@centresocial-oustal.fr
SUMMARY:Atelier Volley-ball
DESCRIPTION:🏐 Le Volley-ball : un sport d’équipe complet\nLe volley-ball est un sport collectif qui oppose deux équipes de six joueurs séparées par un filet.L’objectif : faire passer le ballon au-dessus du filet et le faire toucher le sol du camp adverse\, tout en empêchant l’équipe opposée d’en faire autant.\nPour les adultes\, enfants et ados accompagnés. Sport collectif tous les lundis à 21h et les mercredis et jeudis à partir de 20h\nà la salle du gymnase à Saint Jean du Gard \nAdhesion obligatoire \nInscription à l’accueil de l’Oustal tel : 04 66 85 19 55\n \nCentre Social et Socioculturel l’Oustal \n\nLes ateliers par des habitants bénévoles \n\n\nDocs association
URL:https://centresocial-oustal.fr/activite/atelier-volley-ball-118/
CATEGORIES:Famille,L'Oustal,Séniors et vie locale
ATTACH;FMTTYPE=image/jpeg:https://centresocial-oustal.fr/wp-content/uploads/2025/09/Volley-2025-2026-e1758473378172.jpg
END:VEVENT
BEGIN:VEVENT
DTSTART;TZID=Europe/Paris:20260506T203000
DTEND;TZID=Europe/Paris:20260506T223000
DTSTAMP:20260421T145357
CREATED:20260220T130053Z
LAST-MODIFIED:20260220T130053Z
UID:10001294-1778099400-1778106600@centresocial-oustal.fr
SUMMARY:Rendez-vous culturels de l'Oustal
DESCRIPTION:🎭 Sortie culturelle – L’écriture ou la vie ! (Théâtre)\nDans le cadre des Rendez-vous culturels\, l’Oustal vous propose une nouvelle sortie autour du spectacle L’écriture ou la vie !\, une œuvre théâtrale forte et émouvante. \n📅 Mercredi 6 mai🕢 À 20h30📍 Le Cratère d’Alès \n🚗 Covoiturage\nUn covoiturage est organisé afin de faciliter le déplacement.📍 Départ : devant l’Oustal🕒 Heure de départ : 19h30 \n💰 Tarifs\n\n\n12 € pour le spectacle \n\n\n3 € de participation au covoiturage (paiement séparé) \n\n\n📩 Pour toute question ou information complémentaire\, l’équipe de l’Oustal reste à votre disposition. \n👉 Nous avons hâte de partager avec vous ce moment de découverte culturelle et de convivialité ! \n\n\n\n\n\n\n\n\nNombre de place limité \nSur inscription à l’accueil de l’Oustal au 04 66 85 19 55 ou à l’accueil@centresocial-oustal.fr  \nrendez-vous-culturels
URL:https://centresocial-oustal.fr/activite/rendez-vous-culturels-de-loustal-22/
CATEGORIES:Famille,L'Oustal,Séniors et vie locale
ATTACH;FMTTYPE=image/jpeg:https://centresocial-oustal.fr/wp-content/uploads/2026/02/LEcriture-ou-la-vie.-Hiam-Abbass-IMG_2533-scaled-1.jpeg
END:VEVENT
END:VCALENDAR