BEGIN:VCALENDAR
VERSION:2.0
PRODID:-//L&#039;Oustal - ECPv6.15.20//NONSGML v1.0//EN
CALSCALE:GREGORIAN
METHOD:PUBLISH
X-ORIGINAL-URL:https://centresocial-oustal.fr
X-WR-CALDESC:évènements pour L&#039;Oustal
REFRESH-INTERVAL;VALUE=DURATION:PT1H
X-Robots-Tag:noindex
X-PUBLISHED-TTL:PT1H
BEGIN:VTIMEZONE
TZID:Europe/Paris
BEGIN:DAYLIGHT
TZOFFSETFROM:+0100
TZOFFSETTO:+0200
TZNAME:CEST
DTSTART:20240331T010000
END:DAYLIGHT
BEGIN:STANDARD
TZOFFSETFROM:+0200
TZOFFSETTO:+0100
TZNAME:CET
DTSTART:20241027T010000
END:STANDARD
BEGIN:DAYLIGHT
TZOFFSETFROM:+0100
TZOFFSETTO:+0200
TZNAME:CEST
DTSTART:20250330T010000
END:DAYLIGHT
BEGIN:STANDARD
TZOFFSETFROM:+0200
TZOFFSETTO:+0100
TZNAME:CET
DTSTART:20251026T010000
END:STANDARD
BEGIN:DAYLIGHT
TZOFFSETFROM:+0100
TZOFFSETTO:+0200
TZNAME:CEST
DTSTART:20260329T010000
END:DAYLIGHT
BEGIN:STANDARD
TZOFFSETFROM:+0200
TZOFFSETTO:+0100
TZNAME:CET
DTSTART:20261025T010000
END:STANDARD
END:VTIMEZONE
BEGIN:VEVENT
DTSTART;TZID=Europe/Paris:20250915T170000
DTEND;TZID=Europe/Paris:20250915T183000
DTSTAMP:20260422T004308
CREATED:20250915T115418Z
LAST-MODIFIED:20250915T120238Z
UID:10000877-1757955600-1757961000@centresocial-oustal.fr
SUMMARY:Atelier Badminton
DESCRIPTION:Atelier Badminton\nPour les adultes\, enfants et ados accompagnés. Sport collectif tous les lundis de 17h15 à 18h30 et les dimanches de 10h à 12h.\nà la salle du gymnase à Saint Jean du Gard. \nAdhésion obligatoire \nCentre Social et Socioculturel l’Oustal \nInscription à l’accueil de l’Oustal tel : 04 66 85 19 55 \n\nDocs association \n\n\nLes ateliers par des habitants bénévoles
URL:https://centresocial-oustal.fr/activite/atelier-badminton-67/
CATEGORIES:Enfance et Jeunesse,Famille,Séniors et vie locale
ATTACH;FMTTYPE=image/jpeg:https://centresocial-oustal.fr/wp-content/uploads/2025/09/Badminton-2025-2026.jpg
END:VEVENT
BEGIN:VEVENT
DTSTART;TZID=Europe/Paris:20250915T210000
DTEND;TZID=Europe/Paris:20250915T223000
DTSTAMP:20260422T004308
CREATED:20250915T125847Z
LAST-MODIFIED:20250921T165807Z
UID:10000892-1757970000-1757975400@centresocial-oustal.fr
SUMMARY:Atelier Volley-ball
DESCRIPTION:Atelier volley-ball\nPour les adultes\, enfants et ados accompagnés. Sport collectif tous les lundis à 21h et les mercredis et jeudis à partir de 20h\nà la salle du gymnase à Saint Jean du Gard \nAdhesion obligatoire \nInscription à l’accueil de l’Oustal tel : 04 66 85 19 55 \nCentre Social et Socioculturel l’Oustal \n\nLes ateliers par des habitants bénévoles \n\n\nDocs association
URL:https://centresocial-oustal.fr/activite/volley/
CATEGORIES:Famille,L'Oustal,Séniors et vie locale
ATTACH;FMTTYPE=image/jpeg:https://centresocial-oustal.fr/wp-content/uploads/2025/09/Volley-2025-2026-e1758473378172.jpg
END:VEVENT
BEGIN:VEVENT
DTSTART;TZID=Europe/Paris:20250916T090000
DTEND;TZID=Europe/Paris:20250916T130000
DTSTAMP:20260422T004308
CREATED:20250915T121834Z
LAST-MODIFIED:20250915T121834Z
UID:10000885-1758013200-1758027600@centresocial-oustal.fr
SUMMARY:Atelier couture
DESCRIPTION:Atelier Couture \nPour les adultes\, projets de couture individuels et collectifs tous les mardi 9h à 13h\nau P’tit Oustal Place augustine Soubeiran \nAdhésion obligatoire \nTarif 45€ l’année \nInscriptions à l’accueil de l’Oustal Tel : 04 66 85 19 55 \nCentre Social et Socioculturel l’Oustal \n\nDocs association \n\n\nLes ateliers par des habitants bénévoles
URL:https://centresocial-oustal.fr/activite/atelier-couture-46/
CATEGORIES:Famille,L'Oustal,Séniors et vie locale
ATTACH;FMTTYPE=image/jpeg:https://centresocial-oustal.fr/wp-content/uploads/2025/09/Atelier-couture-2025-2026.jpg
END:VEVENT
BEGIN:VEVENT
DTSTART;TZID=Europe/Paris:20250917T210000
DTEND;TZID=Europe/Paris:20250917T223000
DTSTAMP:20260422T004308
CREATED:20250915T130105Z
LAST-MODIFIED:20250921T165235Z
UID:10000893-1758142800-1758148200@centresocial-oustal.fr
SUMMARY:Atelier Volley-ball
DESCRIPTION:Atelier volley-ball\nPour les adultes\, enfants et ados accompagnés. Sport collectif tous les lundis à 21h et les mercredis et jeudis à partir de 20h\nà la salle du gymnase à Saint Jean du Gard \nAdhesion obligatoire \nInscription à l’accueil de l’Oustal tel : 04 66 85 19 55 \nCentre Social et Socioculturel l’Oustal \n\nLes ateliers par des habitants bénévoles \n\n\nDocs association
URL:https://centresocial-oustal.fr/activite/atelier-volley-ball-76/
CATEGORIES:Famille,L'Oustal,Séniors et vie locale
ATTACH;FMTTYPE=image/jpeg:https://centresocial-oustal.fr/wp-content/uploads/2025/09/Volley-2025-2026-e1758473378172.jpg
END:VEVENT
BEGIN:VEVENT
DTSTART;TZID=Europe/Paris:20250918T140000
DTEND;TZID=Europe/Paris:20250918T170000
DTSTAMP:20260422T004308
CREATED:20250915T122316Z
LAST-MODIFIED:20250915T122329Z
UID:10000887-1758204000-1758214800@centresocial-oustal.fr
SUMMARY:Atelier Patchwork
DESCRIPTION:Atelier Patchwork\nProjets de patchwork individuels et collectifs tous les jeudis de 14h à 17h\nà la salle du Mont-Brion à Saint Jean du Gard \nAdhésion obligatoire \nTarif 45 € à l’année \nInscription à l’accueil de l’Oustal tel : 04 66 85 19 55 \nCentre Social et Socioculturel l’Oustal \n\nLes ateliers par des habitants bénévoles \n\n\nDocs association
URL:https://centresocial-oustal.fr/activite/atelier-patchwork-42/
CATEGORIES:Famille,L'Oustal,Séniors et vie locale
ATTACH;FMTTYPE=image/jpeg:https://centresocial-oustal.fr/wp-content/uploads/2025/09/Atelier-Patchwork-2025-2026.jpg
END:VEVENT
BEGIN:VEVENT
DTSTART;TZID=Europe/Paris:20250918T200000
DTEND;TZID=Europe/Paris:20250918T220000
DTSTAMP:20260422T004308
CREATED:20250915T130234Z
LAST-MODIFIED:20250921T164955Z
UID:10000894-1758225600-1758232800@centresocial-oustal.fr
SUMMARY:Atelier Volley-ball
DESCRIPTION:Atelier volley-ball\nPour les adultes\, enfants et ados accompagnés. Sport collectif tous les lundis à 21h et les mercredis et jeudis à partir de 20h\nà la salle du gymnase à Saint Jean du Gard \nAdhesion obligatoire \nInscription à l’accueil de l’Oustal tel : 04 66 85 19 55 \nCentre Social et Socioculturel l’Oustal \n\nLes ateliers par des habitants bénévoles \n\n\nDocs association
URL:https://centresocial-oustal.fr/activite/atelier-volley-ball-77/
CATEGORIES:Famille,L'Oustal,Séniors et vie locale
ATTACH;FMTTYPE=image/jpeg:https://centresocial-oustal.fr/wp-content/uploads/2025/09/Volley-2025-2026-e1758473378172.jpg
END:VEVENT
BEGIN:VEVENT
DTSTART;TZID=Europe/Paris:20250921T100000
DTEND;TZID=Europe/Paris:20250921T120000
DTSTAMP:20260422T004308
CREATED:20250915T120411Z
LAST-MODIFIED:20250915T120411Z
UID:10000879-1758448800-1758456000@centresocial-oustal.fr
SUMMARY:Atelier Badminton
DESCRIPTION:Atelier Badminton\nPour les adultes\, enfants et ados accompagnés. Sport collectif tous les lundis de 17h15 à 18h30 et les dimanches de 10h à 12h.\nà la salle du gymnase à Saint Jean du Gard. \nAdhésion obligatoire \nCentre Social et Socioculturel l’Oustal \nInscription à l’accueil de l’Oustal tel : 04 66 85 19 55 \n\nDocs association \n\n\nLes ateliers par des habitants bénévoles
URL:https://centresocial-oustal.fr/activite/atelier-badminton-94/
CATEGORIES:Enfance et Jeunesse,Famille,Séniors et vie locale
ATTACH;FMTTYPE=image/jpeg:https://centresocial-oustal.fr/wp-content/uploads/2025/09/Badminton-2025-2026.jpg
END:VEVENT
END:VCALENDAR