BEGIN:VCALENDAR
VERSION:2.0
PRODID:-//L&#039;Oustal - ECPv6.15.20//NONSGML v1.0//EN
CALSCALE:GREGORIAN
METHOD:PUBLISH
X-WR-CALNAME:L&#039;Oustal
X-ORIGINAL-URL:https://centresocial-oustal.fr
X-WR-CALDESC:évènements pour L&#039;Oustal
REFRESH-INTERVAL;VALUE=DURATION:PT1H
X-Robots-Tag:noindex
X-PUBLISHED-TTL:PT1H
BEGIN:VTIMEZONE
TZID:Europe/Paris
BEGIN:DAYLIGHT
TZOFFSETFROM:+0100
TZOFFSETTO:+0200
TZNAME:CEST
DTSTART:20250330T010000
END:DAYLIGHT
BEGIN:STANDARD
TZOFFSETFROM:+0200
TZOFFSETTO:+0100
TZNAME:CET
DTSTART:20251026T010000
END:STANDARD
BEGIN:DAYLIGHT
TZOFFSETFROM:+0100
TZOFFSETTO:+0200
TZNAME:CEST
DTSTART:20260329T010000
END:DAYLIGHT
BEGIN:STANDARD
TZOFFSETFROM:+0200
TZOFFSETTO:+0100
TZNAME:CET
DTSTART:20261025T010000
END:STANDARD
BEGIN:DAYLIGHT
TZOFFSETFROM:+0100
TZOFFSETTO:+0200
TZNAME:CEST
DTSTART:20270328T010000
END:DAYLIGHT
BEGIN:STANDARD
TZOFFSETFROM:+0200
TZOFFSETTO:+0100
TZNAME:CET
DTSTART:20271031T010000
END:STANDARD
END:VTIMEZONE
BEGIN:VEVENT
DTSTART;TZID=Europe/Paris:20260309T170000
DTEND;TZID=Europe/Paris:20260309T183000
DTSTAMP:20260421T161903
CREATED:20260127T150811Z
LAST-MODIFIED:20260127T151417Z
UID:10001207-1773075600-1773081000@centresocial-oustal.fr
SUMMARY:Atelier Badminton
DESCRIPTION:🏸 Le Badminton : sport de vitesse et de précision\nLe badminton est un sport de raquette qui se joue en simple (un contre un) ou en double (deux contre deux).L’objectif : frapper le volant au-dessus du filet pour le faire tomber dans le terrain adverse\, tout en empêchant l’adversaire de le renvoyer.\nTous les lundis de 17h15 à 18h30 et les dimanches de 10h à 12h.\nà la salle du gymnase à Saint Jean du Gard. \nAdhésion obligatoire \nCentre Social et Socioculturel l’Oustal \nInscription à l’accueil de l’Oustal tel : 04 66 85 19 55 \n\nDocs association \n\n\nLes ateliers par des habitants bénévoles
URL:https://centresocial-oustal.fr/activite/atelier-badminton-150/
CATEGORIES:Enfance et Jeunesse,Famille,Séniors et vie locale
ATTACH;FMTTYPE=image/jpeg:https://centresocial-oustal.fr/wp-content/uploads/2025/09/Badminton-2025-2026.jpg
END:VEVENT
BEGIN:VEVENT
DTSTART;TZID=Europe/Paris:20260309T210000
DTEND;TZID=Europe/Paris:20260309T220000
DTSTAMP:20260421T161903
CREATED:20251218T142030Z
LAST-MODIFIED:20251218T142030Z
UID:10001139-1773090000-1773093600@centresocial-oustal.fr
SUMMARY:Atelier Volley-ball
DESCRIPTION:🏐 Le Volley-ball : un sport d’équipe complet\nLe volley-ball est un sport collectif qui oppose deux équipes de six joueurs séparées par un filet.L’objectif : faire passer le ballon au-dessus du filet et le faire toucher le sol du camp adverse\, tout en empêchant l’équipe opposée d’en faire autant.\nPour les adultes\, enfants et ados accompagnés. Sport collectif tous les lundis à 21h et les mercredis et jeudis à partir de 20h\nà la salle du gymnase à Saint Jean du Gard \nAdhesion obligatoire \nInscription à l’accueil de l’Oustal tel : 04 66 85 19 55\n \nCentre Social et Socioculturel l’Oustal \n\nLes ateliers par des habitants bénévoles \n\n\nDocs association
URL:https://centresocial-oustal.fr/activite/atelier-volley-ball-162/
CATEGORIES:Famille,L'Oustal,Séniors et vie locale
ATTACH;FMTTYPE=image/jpeg:https://centresocial-oustal.fr/wp-content/uploads/2025/09/Volley-2025-2026-e1758473378172.jpg
END:VEVENT
BEGIN:VEVENT
DTSTART;TZID=Europe/Paris:20260310T090000
DTEND;TZID=Europe/Paris:20260310T130000
DTSTAMP:20260421T161903
CREATED:20251211T111456Z
LAST-MODIFIED:20251211T111456Z
UID:10001065-1773133200-1773147600@centresocial-oustal.fr
SUMMARY:Atelier couture
DESCRIPTION:🪡 Atelier Couture – Créativité et Partage\nL’atelier couture du Centre Social Oustal est un espace de création\, d’échange et d’apprentissage ouvert à tous.Que vous soyez débutant(e) ou passionné(e)\, venez découvrir ou perfectionner vos techniques de couture dans une ambiance conviviale. \n🗓 Quand et où ? \n\n\nAteliers réguliers encadrés par Isabelle Blineau \n\n\nSalle d’activités – Au P’tit Oustal\, Place Augustine Soubeiran à Saint-Jean-du-Gard  tous les mardi 9h à 13h \n\n\nAdhésion obligatoire \nTarif 45€ l’année \nInscriptions à l’accueil de l’Oustal Tel : 04 66 85 19 55 \nCentre Social et Socioculturel l’Oustal \n\nDocs association \n\n\nLes ateliers par des habitants bénévoles
URL:https://centresocial-oustal.fr/activite/atelier-couture-64/
CATEGORIES:Famille,L'Oustal,Séniors et vie locale
ATTACH;FMTTYPE=image/jpeg:https://centresocial-oustal.fr/wp-content/uploads/2025/09/Atelier-couture-2025-2026.jpg
END:VEVENT
BEGIN:VEVENT
DTSTART;TZID=Europe/Paris:20260310T153000
DTEND;TZID=Europe/Paris:20260310T180000
DTSTAMP:20260421T161903
CREATED:20251210T145321Z
LAST-MODIFIED:20251210T145321Z
UID:10001040-1773156600-1773165600@centresocial-oustal.fr
SUMMARY:LAEP au P'tit Oustal
DESCRIPTION:  \nLieu d’Accueil Parents-Enfants (LAEP)\nLe Lieu d’Accueil Parents-Enfants\, ou LAEP\, est un espace convivial dédié aux familles et à leurs enfants de 0 à 6 ans. C’est un lieu de rencontres\, d’échanges et de jeux pour petits et grands. \nAccès libre et gratuit : vous venez quand vous voulez et restez le temps que vous souhaitez. \nUn accueil bienveillant\nune accueillante est présente pour vous écouter et vous accompagner dans un cadre respectueux et bienveillant. \nLe LAEP
URL:https://centresocial-oustal.fr/activite/laep-au-ptit-oustal-16/
CATEGORIES:Enfance et Jeunesse,Famille,L'Oustal
ATTACH;FMTTYPE=image/png:https://centresocial-oustal.fr/wp-content/uploads/2025/12/Fly-LAEP-du-Ptit-Oustal-.png
END:VEVENT
BEGIN:VEVENT
DTSTART;TZID=Europe/Paris:20260311T200000
DTEND;TZID=Europe/Paris:20260311T220000
DTSTAMP:20260421T161903
CREATED:20251216T150050Z
LAST-MODIFIED:20251216T150434Z
UID:10001088-1773259200-1773266400@centresocial-oustal.fr
SUMMARY:Atelier Volley-ball
DESCRIPTION:🏐 Le Volley-ball : un sport d’équipe complet\nLe volley-ball est un sport collectif qui oppose deux équipes de six joueurs séparées par un filet.L’objectif : faire passer le ballon au-dessus du filet et le faire toucher le sol du camp adverse\, tout en empêchant l’équipe opposée d’en faire autant.\nPour les adultes\, enfants et ados accompagnés. Sport collectif tous les lundis à 21h et les mercredis et jeudis à partir de 20h\nà la salle du gymnase à Saint Jean du Gard \nAdhesion obligatoire \nInscription à l’accueil de l’Oustal tel : 04 66 85 19 55\n \nCentre Social et Socioculturel l’Oustal \n\nLes ateliers par des habitants bénévoles \n\n\nDocs association
URL:https://centresocial-oustal.fr/activite/atelier-volley-ball-111/
CATEGORIES:Famille,L'Oustal,Séniors et vie locale
ATTACH;FMTTYPE=image/jpeg:https://centresocial-oustal.fr/wp-content/uploads/2025/09/Volley-2025-2026-e1758473378172.jpg
END:VEVENT
BEGIN:VEVENT
DTSTART;TZID=Europe/Paris:20260312T200000
DTEND;TZID=Europe/Paris:20260312T220000
DTSTAMP:20260421T161903
CREATED:20251218T125730Z
LAST-MODIFIED:20251218T125730Z
UID:10001114-1773345600-1773352800@centresocial-oustal.fr
SUMMARY:Atelier Volley-ball
DESCRIPTION:🏐 Le Volley-ball : un sport d’équipe complet\nLe volley-ball est un sport collectif qui oppose deux équipes de six joueurs séparées par un filet.L’objectif : faire passer le ballon au-dessus du filet et le faire toucher le sol du camp adverse\, tout en empêchant l’équipe opposée d’en faire autant.\nPour les adultes\, enfants et ados accompagnés. Sport collectif tous les lundis à 21h et les mercredis et jeudis à partir de 20h\nà la salle du gymnase à Saint Jean du Gard \nAdhesion obligatoire \nInscription à l’accueil de l’Oustal tel : 04 66 85 19 55\n \nCentre Social et Socioculturel l’Oustal \n\nLes ateliers par des habitants bénévoles \n\n\nDocs association
URL:https://centresocial-oustal.fr/activite/atelier-volley-ball-137/
CATEGORIES:Famille,L'Oustal,Séniors et vie locale
ATTACH;FMTTYPE=image/jpeg:https://centresocial-oustal.fr/wp-content/uploads/2025/09/Volley-2025-2026-e1758473378172.jpg
END:VEVENT
BEGIN:VEVENT
DTSTART;TZID=Europe/Paris:20260314T100000
DTEND;TZID=Europe/Paris:20260314T110000
DTSTAMP:20260421T161903
CREATED:20260205T103623Z
LAST-MODIFIED:20260205T104237Z
UID:10001274-1773482400-1773486000@centresocial-oustal.fr
SUMMARY:Ateliers Enfants-Parents
DESCRIPTION:Ateliers Parents–Enfants (0–7 ans)\nLes ateliers Parents–Enfants de l’Oustal accueillent les enfants de 0 à 7 ans\, accompagnés d’un parent\, pour partager un moment privilégié autour d’activités ludiques et créatives.L’objectif : découvrir\, expérimenter\, jouer et créer ensemble\, dans un cadre chaleureux et bienveillant. \nNous proposons des thématiques variées tout au long de l’année :🎪 cirque🎵 musique🎨 arts plastiqueset bien d’autres encore… \nLes ateliers se déroulent tous les samedis matin\, de octobre à mai\, hors vacances scolaires.Le nombre de places étant limité\, l’inscription est obligatoire. \nUn beau moment de complicité et de découverte à partager avec votre enfant ! \nlivret atelier parents enfants 2025-26 \nAtelier Cirque par l’association En Corps\nSamedi 14 mars 2026 de 10h à 11h  \n💰 Tarif : 5 € par famille \nVenez nombreux ! \nAteliers Hebdomadaires organisés par des professionnels renseignements \nL’accès est libre ou sur inscription à : accueil@centresocial-oustal.fr ou bien par téléphone au 04 66 85 19 55 \n 
URL:https://centresocial-oustal.fr/activite/ateliers-enfants-parents-24/
CATEGORIES:Enfance et Jeunesse,Famille,L'Oustal
ATTACH;FMTTYPE=image/jpeg:https://centresocial-oustal.fr/wp-content/uploads/2025/11/Initiation-cirque-03-Eklabul-Evenement.jpg
END:VEVENT
BEGIN:VEVENT
DTSTART;TZID=Europe/Paris:20260315T100000
DTEND;TZID=Europe/Paris:20260315T120000
DTSTAMP:20260421T161903
CREATED:20260127T133446Z
LAST-MODIFIED:20260127T133446Z
UID:10001185-1773568800-1773576000@centresocial-oustal.fr
SUMMARY:Atelier Badminton
DESCRIPTION:🏸 Le Badminton : sport de vitesse et de précision\nLe badminton est un sport de raquette qui se joue en simple (un contre un) ou en double (deux contre deux).L’objectif : frapper le volant au-dessus du filet pour le faire tomber dans le terrain adverse\, tout en empêchant l’adversaire de le renvoyer.\nTous les lundis de 17h15 à 18h30 et les dimanches de 10h à 12h.\nà la salle du gymnase à Saint Jean du Gard. \nAdhésion obligatoire \nCentre Social et Socioculturel l’Oustal \nInscription à l’accueil de l’Oustal tel : 04 66 85 19 55 \n\nDocs association \n\n\nLes ateliers par des habitants bénévoles
URL:https://centresocial-oustal.fr/activite/atelier-badminton-128/
CATEGORIES:Enfance et Jeunesse,Famille,Séniors et vie locale
ATTACH;FMTTYPE=image/jpeg:https://centresocial-oustal.fr/wp-content/uploads/2025/09/Badminton-2025-2026.jpg
END:VEVENT
END:VCALENDAR