BEGIN:VCALENDAR
VERSION:2.0
PRODID:-//L&#039;Oustal - ECPv6.15.20//NONSGML v1.0//EN
CALSCALE:GREGORIAN
METHOD:PUBLISH
X-ORIGINAL-URL:https://centresocial-oustal.fr
X-WR-CALDESC:évènements pour L&#039;Oustal
REFRESH-INTERVAL;VALUE=DURATION:PT1H
X-Robots-Tag:noindex
X-PUBLISHED-TTL:PT1H
BEGIN:VTIMEZONE
TZID:Europe/Paris
BEGIN:DAYLIGHT
TZOFFSETFROM:+0100
TZOFFSETTO:+0200
TZNAME:CEST
DTSTART:20250330T010000
END:DAYLIGHT
BEGIN:STANDARD
TZOFFSETFROM:+0200
TZOFFSETTO:+0100
TZNAME:CET
DTSTART:20251026T010000
END:STANDARD
BEGIN:DAYLIGHT
TZOFFSETFROM:+0100
TZOFFSETTO:+0200
TZNAME:CEST
DTSTART:20260329T010000
END:DAYLIGHT
BEGIN:STANDARD
TZOFFSETFROM:+0200
TZOFFSETTO:+0100
TZNAME:CET
DTSTART:20261025T010000
END:STANDARD
BEGIN:DAYLIGHT
TZOFFSETFROM:+0100
TZOFFSETTO:+0200
TZNAME:CEST
DTSTART:20270328T010000
END:DAYLIGHT
BEGIN:STANDARD
TZOFFSETFROM:+0200
TZOFFSETTO:+0100
TZNAME:CET
DTSTART:20271031T010000
END:STANDARD
END:VTIMEZONE
BEGIN:VEVENT
DTSTART;TZID=Europe/Paris:20260421T000000
DTEND;TZID=Europe/Paris:20260424T000000
DTSTAMP:20260421T145517
CREATED:20260204T111624Z
LAST-MODIFIED:20260204T112040Z
UID:10001220-1776729600-1776988800@centresocial-oustal.fr
SUMMARY:Séjour ados 12 17 ans
DESCRIPTION:🧳 Mini-séjour inter-centres – Adolescents 12–17 ans\nLes Centres Sociaux proposent un mini-séjour inter-centres pour les adolescents de 12 à 17 ans\, du mardi 21 au vendredi 24 avril 2026\, à Chamborigaud. \nCe séjour\, inscrit dans les actions de la Salle des Jeunes\, favorise la vie en collectivité\, l’autonomie\, le partage et la découverte\, dans un cadre éducatif et convivial. \n💰 Tarif : 100 €👥 Réservé aux jeunes inscrits à la Salle des Jeunes⚠️ Places limitées – inscription obligatoire \n📍 Inscriptions à l’accueil du Centre Social L’Oustal📞 04 66 85 15 55📧 accueil@centresocial-oustal.fr \n📩 Renseignements : filippo.gasperini@centresocial-oustal.fr \nhttps://centresocial-oustal.fr/sejours/
URL:https://centresocial-oustal.fr/activite/sejour-ados-12-17-ans/
CATEGORIES:Enfance et Jeunesse,Famille,L'Oustal
ATTACH;FMTTYPE=image/jpeg:https://centresocial-oustal.fr/wp-content/uploads/2026/02/Affiche-sejour-intercentre-002.jpg
END:VEVENT
END:VCALENDAR