BEGIN:VCALENDAR
VERSION:2.0
PRODID:-//L&#039;Oustal - ECPv6.15.20//NONSGML v1.0//EN
CALSCALE:GREGORIAN
METHOD:PUBLISH
X-ORIGINAL-URL:https://centresocial-oustal.fr
X-WR-CALDESC:évènements pour L&#039;Oustal
REFRESH-INTERVAL;VALUE=DURATION:PT1H
X-Robots-Tag:noindex
X-PUBLISHED-TTL:PT1H
BEGIN:VTIMEZONE
TZID:Europe/Paris
BEGIN:DAYLIGHT
TZOFFSETFROM:+0100
TZOFFSETTO:+0200
TZNAME:CEST
DTSTART:20250330T010000
END:DAYLIGHT
BEGIN:STANDARD
TZOFFSETFROM:+0200
TZOFFSETTO:+0100
TZNAME:CET
DTSTART:20251026T010000
END:STANDARD
BEGIN:DAYLIGHT
TZOFFSETFROM:+0100
TZOFFSETTO:+0200
TZNAME:CEST
DTSTART:20260329T010000
END:DAYLIGHT
BEGIN:STANDARD
TZOFFSETFROM:+0200
TZOFFSETTO:+0100
TZNAME:CET
DTSTART:20261025T010000
END:STANDARD
BEGIN:DAYLIGHT
TZOFFSETFROM:+0100
TZOFFSETTO:+0200
TZNAME:CEST
DTSTART:20270328T010000
END:DAYLIGHT
BEGIN:STANDARD
TZOFFSETFROM:+0200
TZOFFSETTO:+0100
TZNAME:CET
DTSTART:20271031T010000
END:STANDARD
END:VTIMEZONE
BEGIN:VEVENT
DTSTART;TZID=Europe/Paris:20260428T153000
DTEND;TZID=Europe/Paris:20260428T180000
DTSTAMP:20260421T174715
CREATED:20251211T085902Z
LAST-MODIFIED:20251211T085902Z
UID:10001047-1777390200-1777399200@centresocial-oustal.fr
SUMMARY:LAEP au P'tit Oustal
DESCRIPTION:  \nLieu d’Accueil Parents-Enfants (LAEP)\nLe Lieu d’Accueil Parents-Enfants\, ou LAEP\, est un espace convivial dédié aux familles et à leurs enfants de 0 à 6 ans. C’est un lieu de rencontres\, d’échanges et de jeux pour petits et grands. \nAccès libre et gratuit : vous venez quand vous voulez et restez le temps que vous souhaitez. \nUn accueil bienveillant\nune accueillante est présente pour vous écouter et vous accompagner dans un cadre respectueux et bienveillant. \nLe LAEP
URL:https://centresocial-oustal.fr/activite/laep-au-ptit-oustal-23/
CATEGORIES:Enfance et Jeunesse,Famille,L'Oustal
ATTACH;FMTTYPE=image/png:https://centresocial-oustal.fr/wp-content/uploads/2025/12/Fly-LAEP-du-Ptit-Oustal-.png
END:VEVENT
END:VCALENDAR