BEGIN:VCALENDAR
VERSION:2.0
PRODID:-//L&#039;Oustal - ECPv6.15.20//NONSGML v1.0//EN
CALSCALE:GREGORIAN
METHOD:PUBLISH
X-ORIGINAL-URL:https://centresocial-oustal.fr
X-WR-CALDESC:évènements pour L&#039;Oustal
REFRESH-INTERVAL;VALUE=DURATION:PT1H
X-Robots-Tag:noindex
X-PUBLISHED-TTL:PT1H
BEGIN:VTIMEZONE
TZID:Europe/Paris
BEGIN:DAYLIGHT
TZOFFSETFROM:+0100
TZOFFSETTO:+0200
TZNAME:CEST
DTSTART:20230326T010000
END:DAYLIGHT
BEGIN:STANDARD
TZOFFSETFROM:+0200
TZOFFSETTO:+0100
TZNAME:CET
DTSTART:20231029T010000
END:STANDARD
BEGIN:DAYLIGHT
TZOFFSETFROM:+0100
TZOFFSETTO:+0200
TZNAME:CEST
DTSTART:20240331T010000
END:DAYLIGHT
BEGIN:STANDARD
TZOFFSETFROM:+0200
TZOFFSETTO:+0100
TZNAME:CET
DTSTART:20241027T010000
END:STANDARD
BEGIN:DAYLIGHT
TZOFFSETFROM:+0100
TZOFFSETTO:+0200
TZNAME:CEST
DTSTART:20250330T010000
END:DAYLIGHT
BEGIN:STANDARD
TZOFFSETFROM:+0200
TZOFFSETTO:+0100
TZNAME:CET
DTSTART:20251026T010000
END:STANDARD
BEGIN:DAYLIGHT
TZOFFSETFROM:+0100
TZOFFSETTO:+0200
TZNAME:CEST
DTSTART:20260329T010000
END:DAYLIGHT
BEGIN:STANDARD
TZOFFSETFROM:+0200
TZOFFSETTO:+0100
TZNAME:CET
DTSTART:20261025T010000
END:STANDARD
END:VTIMEZONE
BEGIN:VEVENT
DTSTART;TZID=Europe/Paris:20250928T100000
DTEND;TZID=Europe/Paris:20250928T120000
DTSTAMP:20260422T214625
CREATED:20250915T120452Z
LAST-MODIFIED:20250915T120452Z
UID:10000880-1759053600-1759060800@centresocial-oustal.fr
SUMMARY:Atelier Badminton
DESCRIPTION:Atelier Badminton\nPour les adultes\, enfants et ados accompagnés. Sport collectif tous les lundis de 17h15 à 18h30 et les dimanches de 10h à 12h.\nà la salle du gymnase à Saint Jean du Gard. \nAdhésion obligatoire \nCentre Social et Socioculturel l’Oustal \nInscription à l’accueil de l’Oustal tel : 04 66 85 19 55 \n\nDocs association \n\n\nLes ateliers par des habitants bénévoles
URL:https://centresocial-oustal.fr/activite/atelier-badminton-95/
CATEGORIES:Enfance et Jeunesse,Famille,Séniors et vie locale
ATTACH;FMTTYPE=image/jpeg:https://centresocial-oustal.fr/wp-content/uploads/2025/09/Badminton-2025-2026.jpg
END:VEVENT
BEGIN:VEVENT
DTSTART;TZID=Europe/Paris:20250927T100000
DTEND;TZID=Europe/Paris:20250927T180000
DTSTAMP:20260422T214625
CREATED:20250922T123356Z
LAST-MODIFIED:20250922T123542Z
UID:10000906-1758967200-1758996000@centresocial-oustal.fr
SUMMARY:Salle des jeunes
DESCRIPTION:Salle des jeunes pour les collégiens de 12/17 ans à partir de la 6ème\n \nSamedi 27 septembre\nSortie à Montpellier « Japan Matsuri » \nTarif 10€ \nPlaces limitées \nSur inscription à l’accueil de l’Oustal au 04 66 85 19 55 ou par mail : accueil@centresocial-oustal.fr \nProgramme salle des jeunes \nFiche de renseignements 2025 2026 – Salle des jeunes \n\nAccueil de loisirs Ados 12-17 ans
URL:https://centresocial-oustal.fr/activite/salle-des-jeunes-66/
CATEGORIES:Enfance et Jeunesse,Famille,L'Oustal
ATTACH;FMTTYPE=image/jpeg:https://centresocial-oustal.fr/wp-content/uploads/2025/08/Salle-des-jeunes.jpg
END:VEVENT
BEGIN:VEVENT
DTSTART;TZID=Europe/Paris:20250927T100000
DTEND;TZID=Europe/Paris:20250927T110000
DTSTAMP:20260422T214625
CREATED:20250922T122809Z
LAST-MODIFIED:20250922T122902Z
UID:10000905-1758967200-1758970800@centresocial-oustal.fr
SUMMARY:Ateliers Enfants-Parents
DESCRIPTION:Pour les enfants de 0 à 7 ans\, accompagnés de leurs parents\, programme sur demande \nlivret atelier parents enfants 2025-26 \nAtelier autour du conte et de l’oralité à la ludothèque\nsamedi 27 septembre 2025 de 10h à 11h  \nGratuit \nVenez nombreux ! \nAteliers Hebdomadaires organisés par des professionnels renseignements \nL’accès est libre ou sur inscription à : accueil@centresocial-oustal.fr ou bien par téléphone au 04 66 85 19 55 \n 
URL:https://centresocial-oustal.fr/activite/ateliers-enfants-parents-13/
CATEGORIES:Enfance et Jeunesse,Famille,L'Oustal
ATTACH;FMTTYPE=image/jpeg:https://centresocial-oustal.fr/wp-content/uploads/2025/09/DSC_3408.jpg
END:VEVENT
BEGIN:VEVENT
DTSTART;TZID=Europe/Paris:20250927T080000
DTEND;TZID=Europe/Paris:20250927T170000
DTSTAMP:20260422T214625
CREATED:20250922T132236Z
LAST-MODIFIED:20250922T132317Z
UID:10000907-1758960000-1758992400@centresocial-oustal.fr
SUMMARY:Les jardins partagés
DESCRIPTION:Participation à l’aménagement de nouveaux jardins à Saint Jean du Gard. \nInscription gratuite à l’accueil de l’oustal : accueil@centresocial-oustal.fr ou au : 04 66 85 19 55 \n 
URL:https://centresocial-oustal.fr/activite/les-jardins-partages/
CATEGORIES:Famille,L'Oustal,Séniors et vie locale
ATTACH;FMTTYPE=image/jpeg:https://centresocial-oustal.fr/wp-content/uploads/2025/09/affiche-journee-du-27-jardin-002.jpg
END:VEVENT
BEGIN:VEVENT
DTSTART;TZID=Europe/Paris:20250925T200000
DTEND;TZID=Europe/Paris:20250925T220000
DTSTAMP:20260422T214625
CREATED:20250921T170607Z
LAST-MODIFIED:20250921T170607Z
UID:10000899-1758830400-1758837600@centresocial-oustal.fr
SUMMARY:Atelier Volley-ball
DESCRIPTION:Atelier volley-ball\nPour les adultes\, enfants et ados accompagnés. Sport collectif tous les lundis à 21h et les mercredis et jeudis à partir de 20h\nà la salle du gymnase à Saint Jean du Gard \nAdhesion obligatoire \nInscription à l’accueil de l’Oustal tel : 04 66 85 19 55 \nCentre Social et Socioculturel l’Oustal \n\nLes ateliers par des habitants bénévoles \n\n\nDocs association
URL:https://centresocial-oustal.fr/activite/atelier-volley-ball-81/
CATEGORIES:Famille,L'Oustal,Séniors et vie locale
ATTACH;FMTTYPE=image/jpeg:https://centresocial-oustal.fr/wp-content/uploads/2025/09/Volley-2025-2026-e1758473378172.jpg
END:VEVENT
BEGIN:VEVENT
DTSTART;TZID=Europe/Paris:20250925T140000
DTEND;TZID=Europe/Paris:20250925T170000
DTSTAMP:20260422T214625
CREATED:20250915T122414Z
LAST-MODIFIED:20250915T122424Z
UID:10000888-1758808800-1758819600@centresocial-oustal.fr
SUMMARY:Atelier Patchwork
DESCRIPTION:Atelier Patchwork\nProjets de patchwork individuels et collectifs tous les jeudis de 14h à 17h\nà la salle du Mont-Brion à Saint Jean du Gard \nAdhésion obligatoire \nTarif 45 € à l’année \nInscription à l’accueil de l’Oustal tel : 04 66 85 19 55 \nCentre Social et Socioculturel l’Oustal \n\nLes ateliers par des habitants bénévoles \n\n\nDocs association
URL:https://centresocial-oustal.fr/activite/atelier-patchwork-43/
CATEGORIES:Famille,L'Oustal,Séniors et vie locale
ATTACH;FMTTYPE=image/jpeg:https://centresocial-oustal.fr/wp-content/uploads/2025/09/Atelier-Patchwork-2025-2026.jpg
END:VEVENT
BEGIN:VEVENT
DTSTART;TZID=Europe/Paris:20250924T210000
DTEND;TZID=Europe/Paris:20250924T223000
DTSTAMP:20260422T214625
CREATED:20250921T170340Z
LAST-MODIFIED:20250921T170351Z
UID:10000897-1758747600-1758753000@centresocial-oustal.fr
SUMMARY:Atelier Volley-ball
DESCRIPTION:Atelier volley-ball\nPour les adultes\, enfants et ados accompagnés. Sport collectif tous les lundis à 21h et les mercredis et jeudis à partir de 20h\nà la salle du gymnase à Saint Jean du Gard \nAdhesion obligatoire \nInscription à l’accueil de l’Oustal tel : 04 66 85 19 55 \nCentre Social et Socioculturel l’Oustal \n\nLes ateliers par des habitants bénévoles \n\n\nDocs association
URL:https://centresocial-oustal.fr/activite/atelier-volley-ball-79/
CATEGORIES:Famille,L'Oustal,Séniors et vie locale
ATTACH;FMTTYPE=image/jpeg:https://centresocial-oustal.fr/wp-content/uploads/2025/09/Volley-2025-2026-e1758473378172.jpg
END:VEVENT
BEGIN:VEVENT
DTSTART;TZID=Europe/Paris:20250923T090000
DTEND;TZID=Europe/Paris:20250923T130000
DTSTAMP:20260422T214625
CREATED:20250915T121310Z
LAST-MODIFIED:20250915T121656Z
UID:10000884-1758618000-1758632400@centresocial-oustal.fr
SUMMARY:Atelier couture
DESCRIPTION:Atelier Couture \nPour les adultes\, projets de couture individuels et collectifs tous les mardi 9h à 13h\nau P’tit Oustal Place augustine Soubeiran \nAdhésion obligatoire \nTarif 45€ l’année \nInscriptions à l’accueil de l’Oustal Tel : 04 66 85 19 55 \nCentre Social et Socioculturel l’Oustal \n\nDocs association \n\n\nLes ateliers par des habitants bénévoles
URL:https://centresocial-oustal.fr/activite/atelier-couture-45/
CATEGORIES:Famille,L'Oustal,Séniors et vie locale
ATTACH;FMTTYPE=image/jpeg:https://centresocial-oustal.fr/wp-content/uploads/2025/09/Atelier-couture-2025-2026.jpg
END:VEVENT
BEGIN:VEVENT
DTSTART;TZID=Europe/Paris:20250922T210000
DTEND;TZID=Europe/Paris:20250922T223000
DTSTAMP:20260422T214625
CREATED:20250921T165931Z
LAST-MODIFIED:20250921T165931Z
UID:10000895-1758574800-1758580200@centresocial-oustal.fr
SUMMARY:Atelier Volley-ball
DESCRIPTION:Atelier volley-ball\nPour les adultes\, enfants et ados accompagnés. Sport collectif tous les lundis à 21h et les mercredis et jeudis à partir de 20h\nà la salle du gymnase à Saint Jean du Gard \nAdhesion obligatoire \nInscription à l’accueil de l’Oustal tel : 04 66 85 19 55 \nCentre Social et Socioculturel l’Oustal \n\nLes ateliers par des habitants bénévoles \n\n\nDocs association
URL:https://centresocial-oustal.fr/activite/atelier-volley-ball-75/
CATEGORIES:Famille,L'Oustal,Séniors et vie locale
ATTACH;FMTTYPE=image/jpeg:https://centresocial-oustal.fr/wp-content/uploads/2025/09/Volley-2025-2026-e1758473378172.jpg
END:VEVENT
BEGIN:VEVENT
DTSTART;TZID=Europe/Paris:20250922T170000
DTEND;TZID=Europe/Paris:20250922T183000
DTSTAMP:20260422T214625
CREATED:20250915T120517Z
LAST-MODIFIED:20250915T120517Z
UID:10000881-1758560400-1758565800@centresocial-oustal.fr
SUMMARY:Atelier Badminton
DESCRIPTION:Atelier Badminton\nPour les adultes\, enfants et ados accompagnés. Sport collectif tous les lundis de 17h15 à 18h30 et les dimanches de 10h à 12h.\nà la salle du gymnase à Saint Jean du Gard. \nAdhésion obligatoire \nCentre Social et Socioculturel l’Oustal \nInscription à l’accueil de l’Oustal tel : 04 66 85 19 55 \n\nDocs association \n\n\nLes ateliers par des habitants bénévoles
URL:https://centresocial-oustal.fr/activite/atelier-badminton-96/
CATEGORIES:Enfance et Jeunesse,Famille,Séniors et vie locale
ATTACH;FMTTYPE=image/jpeg:https://centresocial-oustal.fr/wp-content/uploads/2025/09/Badminton-2025-2026.jpg
END:VEVENT
BEGIN:VEVENT
DTSTART;TZID=Europe/Paris:20250921T100000
DTEND;TZID=Europe/Paris:20250921T120000
DTSTAMP:20260422T214625
CREATED:20250915T120411Z
LAST-MODIFIED:20250915T120411Z
UID:10000879-1758448800-1758456000@centresocial-oustal.fr
SUMMARY:Atelier Badminton
DESCRIPTION:Atelier Badminton\nPour les adultes\, enfants et ados accompagnés. Sport collectif tous les lundis de 17h15 à 18h30 et les dimanches de 10h à 12h.\nà la salle du gymnase à Saint Jean du Gard. \nAdhésion obligatoire \nCentre Social et Socioculturel l’Oustal \nInscription à l’accueil de l’Oustal tel : 04 66 85 19 55 \n\nDocs association \n\n\nLes ateliers par des habitants bénévoles
URL:https://centresocial-oustal.fr/activite/atelier-badminton-94/
CATEGORIES:Enfance et Jeunesse,Famille,Séniors et vie locale
ATTACH;FMTTYPE=image/jpeg:https://centresocial-oustal.fr/wp-content/uploads/2025/09/Badminton-2025-2026.jpg
END:VEVENT
BEGIN:VEVENT
DTSTART;TZID=Europe/Paris:20250918T200000
DTEND;TZID=Europe/Paris:20250918T220000
DTSTAMP:20260422T214625
CREATED:20250915T130234Z
LAST-MODIFIED:20250921T164955Z
UID:10000894-1758225600-1758232800@centresocial-oustal.fr
SUMMARY:Atelier Volley-ball
DESCRIPTION:Atelier volley-ball\nPour les adultes\, enfants et ados accompagnés. Sport collectif tous les lundis à 21h et les mercredis et jeudis à partir de 20h\nà la salle du gymnase à Saint Jean du Gard \nAdhesion obligatoire \nInscription à l’accueil de l’Oustal tel : 04 66 85 19 55 \nCentre Social et Socioculturel l’Oustal \n\nLes ateliers par des habitants bénévoles \n\n\nDocs association
URL:https://centresocial-oustal.fr/activite/atelier-volley-ball-77/
CATEGORIES:Famille,L'Oustal,Séniors et vie locale
ATTACH;FMTTYPE=image/jpeg:https://centresocial-oustal.fr/wp-content/uploads/2025/09/Volley-2025-2026-e1758473378172.jpg
END:VEVENT
BEGIN:VEVENT
DTSTART;TZID=Europe/Paris:20250918T140000
DTEND;TZID=Europe/Paris:20250918T170000
DTSTAMP:20260422T214625
CREATED:20250915T122316Z
LAST-MODIFIED:20250915T122329Z
UID:10000887-1758204000-1758214800@centresocial-oustal.fr
SUMMARY:Atelier Patchwork
DESCRIPTION:Atelier Patchwork\nProjets de patchwork individuels et collectifs tous les jeudis de 14h à 17h\nà la salle du Mont-Brion à Saint Jean du Gard \nAdhésion obligatoire \nTarif 45 € à l’année \nInscription à l’accueil de l’Oustal tel : 04 66 85 19 55 \nCentre Social et Socioculturel l’Oustal \n\nLes ateliers par des habitants bénévoles \n\n\nDocs association
URL:https://centresocial-oustal.fr/activite/atelier-patchwork-42/
CATEGORIES:Famille,L'Oustal,Séniors et vie locale
ATTACH;FMTTYPE=image/jpeg:https://centresocial-oustal.fr/wp-content/uploads/2025/09/Atelier-Patchwork-2025-2026.jpg
END:VEVENT
BEGIN:VEVENT
DTSTART;TZID=Europe/Paris:20250917T210000
DTEND;TZID=Europe/Paris:20250917T223000
DTSTAMP:20260422T214625
CREATED:20250915T130105Z
LAST-MODIFIED:20250921T165235Z
UID:10000893-1758142800-1758148200@centresocial-oustal.fr
SUMMARY:Atelier Volley-ball
DESCRIPTION:Atelier volley-ball\nPour les adultes\, enfants et ados accompagnés. Sport collectif tous les lundis à 21h et les mercredis et jeudis à partir de 20h\nà la salle du gymnase à Saint Jean du Gard \nAdhesion obligatoire \nInscription à l’accueil de l’Oustal tel : 04 66 85 19 55 \nCentre Social et Socioculturel l’Oustal \n\nLes ateliers par des habitants bénévoles \n\n\nDocs association
URL:https://centresocial-oustal.fr/activite/atelier-volley-ball-76/
CATEGORIES:Famille,L'Oustal,Séniors et vie locale
ATTACH;FMTTYPE=image/jpeg:https://centresocial-oustal.fr/wp-content/uploads/2025/09/Volley-2025-2026-e1758473378172.jpg
END:VEVENT
BEGIN:VEVENT
DTSTART;TZID=Europe/Paris:20250916T090000
DTEND;TZID=Europe/Paris:20250916T130000
DTSTAMP:20260422T214625
CREATED:20250915T121834Z
LAST-MODIFIED:20250915T121834Z
UID:10000885-1758013200-1758027600@centresocial-oustal.fr
SUMMARY:Atelier couture
DESCRIPTION:Atelier Couture \nPour les adultes\, projets de couture individuels et collectifs tous les mardi 9h à 13h\nau P’tit Oustal Place augustine Soubeiran \nAdhésion obligatoire \nTarif 45€ l’année \nInscriptions à l’accueil de l’Oustal Tel : 04 66 85 19 55 \nCentre Social et Socioculturel l’Oustal \n\nDocs association \n\n\nLes ateliers par des habitants bénévoles
URL:https://centresocial-oustal.fr/activite/atelier-couture-46/
CATEGORIES:Famille,L'Oustal,Séniors et vie locale
ATTACH;FMTTYPE=image/jpeg:https://centresocial-oustal.fr/wp-content/uploads/2025/09/Atelier-couture-2025-2026.jpg
END:VEVENT
BEGIN:VEVENT
DTSTART;TZID=Europe/Paris:20250915T210000
DTEND;TZID=Europe/Paris:20250915T223000
DTSTAMP:20260422T214625
CREATED:20250915T125847Z
LAST-MODIFIED:20250921T165807Z
UID:10000892-1757970000-1757975400@centresocial-oustal.fr
SUMMARY:Atelier Volley-ball
DESCRIPTION:Atelier volley-ball\nPour les adultes\, enfants et ados accompagnés. Sport collectif tous les lundis à 21h et les mercredis et jeudis à partir de 20h\nà la salle du gymnase à Saint Jean du Gard \nAdhesion obligatoire \nInscription à l’accueil de l’Oustal tel : 04 66 85 19 55 \nCentre Social et Socioculturel l’Oustal \n\nLes ateliers par des habitants bénévoles \n\n\nDocs association
URL:https://centresocial-oustal.fr/activite/volley/
CATEGORIES:Famille,L'Oustal,Séniors et vie locale
ATTACH;FMTTYPE=image/jpeg:https://centresocial-oustal.fr/wp-content/uploads/2025/09/Volley-2025-2026-e1758473378172.jpg
END:VEVENT
BEGIN:VEVENT
DTSTART;TZID=Europe/Paris:20250915T170000
DTEND;TZID=Europe/Paris:20250915T183000
DTSTAMP:20260422T214625
CREATED:20250915T115418Z
LAST-MODIFIED:20250915T120238Z
UID:10000877-1757955600-1757961000@centresocial-oustal.fr
SUMMARY:Atelier Badminton
DESCRIPTION:Atelier Badminton\nPour les adultes\, enfants et ados accompagnés. Sport collectif tous les lundis de 17h15 à 18h30 et les dimanches de 10h à 12h.\nà la salle du gymnase à Saint Jean du Gard. \nAdhésion obligatoire \nCentre Social et Socioculturel l’Oustal \nInscription à l’accueil de l’Oustal tel : 04 66 85 19 55 \n\nDocs association \n\n\nLes ateliers par des habitants bénévoles
URL:https://centresocial-oustal.fr/activite/atelier-badminton-67/
CATEGORIES:Enfance et Jeunesse,Famille,Séniors et vie locale
ATTACH;FMTTYPE=image/jpeg:https://centresocial-oustal.fr/wp-content/uploads/2025/09/Badminton-2025-2026.jpg
END:VEVENT
BEGIN:VEVENT
DTSTART;TZID=Europe/Paris:20250913T090000
DTEND;TZID=Europe/Paris:20250913T123000
DTSTAMP:20260422T214625
CREATED:20250812T090217Z
LAST-MODIFIED:20250812T090236Z
UID:10000863-1757754000-1757766600@centresocial-oustal.fr
SUMMARY:Forum des associations
DESCRIPTION:Forum des associations.\nLe Forum des associations est le rendez-vous annuel incontournable de la vie associative\n \nJournée où les associations seront présentes pour présenter leurs activités et leur programme de l’année. \nVenez nombreux.
URL:https://centresocial-oustal.fr/activite/forum-des-associations-2/
CATEGORIES:Enfance et Jeunesse,Famille,France Service,L'Accueil,L'Oustal,Séniors et vie locale
ATTACH;FMTTYPE=image/jpeg:https://centresocial-oustal.fr/wp-content/uploads/2025/08/2.jpg
END:VEVENT
BEGIN:VEVENT
DTSTART;TZID=Europe/Paris:20241214T140000
DTEND;TZID=Europe/Paris:20241214T180000
DTSTAMP:20260422T214625
CREATED:20241204T104217Z
LAST-MODIFIED:20241204T104217Z
UID:10000604-1734184800-1734199200@centresocial-oustal.fr
SUMMARY:Kermesse de Noël
DESCRIPTION:Venez nombreux à la kermesse de Noël \, le samedi 14 décembre à l’espace Paulhan bas. \nC’est l’occasion de partager un moment festif avec d’autres parents\, d’autres enfants et faire une photo avec le père Noël si vous le souhaitez. \nUne façon de clôturer l’année avec des jeux\, des activités manuelles et vous restaurez dans la bonne ambiance chaleureuse de Noël.
URL:https://centresocial-oustal.fr/activite/kermesse-de-noel/
CATEGORIES:Enfance et Jeunesse,Famille,L'Oustal
ATTACH;FMTTYPE=image/jpeg:https://centresocial-oustal.fr/wp-content/uploads/2024/12/Affiche-Annonce-Fete-de-Noel-Illustre-Bleu-Blanc-Rouge.jpg
END:VEVENT
END:VCALENDAR