BEGIN:VCALENDAR
VERSION:2.0
PRODID:-//L&#039;Oustal - ECPv6.15.20//NONSGML v1.0//EN
CALSCALE:GREGORIAN
METHOD:PUBLISH
X-WR-CALNAME:L&#039;Oustal
X-ORIGINAL-URL:https://centresocial-oustal.fr
X-WR-CALDESC:évènements pour L&#039;Oustal
REFRESH-INTERVAL;VALUE=DURATION:PT1H
X-Robots-Tag:noindex
X-PUBLISHED-TTL:PT1H
BEGIN:VTIMEZONE
TZID:Europe/Paris
BEGIN:DAYLIGHT
TZOFFSETFROM:+0100
TZOFFSETTO:+0200
TZNAME:CEST
DTSTART:20230326T010000
END:DAYLIGHT
BEGIN:STANDARD
TZOFFSETFROM:+0200
TZOFFSETTO:+0100
TZNAME:CET
DTSTART:20231029T010000
END:STANDARD
BEGIN:DAYLIGHT
TZOFFSETFROM:+0100
TZOFFSETTO:+0200
TZNAME:CEST
DTSTART:20240331T010000
END:DAYLIGHT
BEGIN:STANDARD
TZOFFSETFROM:+0200
TZOFFSETTO:+0100
TZNAME:CET
DTSTART:20241027T010000
END:STANDARD
BEGIN:DAYLIGHT
TZOFFSETFROM:+0100
TZOFFSETTO:+0200
TZNAME:CEST
DTSTART:20250330T010000
END:DAYLIGHT
BEGIN:STANDARD
TZOFFSETFROM:+0200
TZOFFSETTO:+0100
TZNAME:CET
DTSTART:20251026T010000
END:STANDARD
END:VTIMEZONE
BEGIN:VEVENT
DTSTART;TZID=Europe/Paris:20241011T090000
DTEND;TZID=Europe/Paris:20241011T173000
DTSTAMP:20260420T093941
CREATED:20240826T161705Z
LAST-MODIFIED:20240826T161705Z
UID:10000342-1728637200-1728667800@centresocial-oustal.fr
SUMMARY:Sorties Adultes
DESCRIPTION:L’Oustal vous propose une série de sorties adultes .\nPrévoir un pique-nique et vêtements adéquats selon les sorties. \nLe vendredi 11 octobre\nDécouverte du patrimoine de Castries et Aqueduc  \nTarif 8€\nSur inscription à l’accueil de l’Oustal au  04 66 85 19 55 ou par mail à : accueil@centresocial-oustal.fr\nPlaces limitées \nSorties adultes 2024
URL:https://centresocial-oustal.fr/activite/sorties-adultes-7/
CATEGORIES:L'Oustal,Séniors et vie locale
ATTACH;FMTTYPE=image/jpeg:https://centresocial-oustal.fr/wp-content/uploads/2024/08/Sorties-adultes-Article-A4-Document-2.jpg
END:VEVENT
END:VCALENDAR